BEGIN:VCALENDAR
VERSION:2.0
PRODID:-//ChamberMaster//Event Calendar 2.0//EN
METHOD:PUBLISH
X-PUBLISHED-TTL:P3D
REFRESH-INTERVAL:P3D
CALSCALE:GREGORIAN
BEGIN:VEVENT
DTSTART;VALUE=DATE:20230810
DTEND;VALUE=DATE:20230814
TRANSP:TRANSPARENT
X-MICROSOFT-CDO-ALLDAYEVENT:TRUE
SUMMARY:Joseph and the Amazing Technicolor Dreamcoat
DESCRIPTION:Sauk Prairie Theatre Guild Presents:\n\nJoseph and the Amazing Technicolor Dreamcoat!\n\n\n\nLyrics by Tim Rice\n\nMusic by Andrew Lloyd Webber
X-ALT-DESC;FMTTYPE=text/html:Sauk Prairie Theatre Guild Presents:<br />\n<strong>Joseph and the Amazing Technicolor Dreamcoat!</strong><br />\n<br />\nLyrics by Tim Rice<br />\nMusic by Andrew Lloyd Webber
LOCATION:River Arts Center 105 9th Street Prairie du Sac\, WI 53578
UID:e.1184.30922
SEQUENCE:3
DTSTAMP:20260420T085252Z
URL:http://members.saukprairie.com/events/details/joseph-and-the-amazing-technicolor-dreamcoat-30922
END:VEVENT

END:VCALENDAR
