BEGIN:VCALENDAR
VERSION:2.0
PRODID:-//ChamberMaster//Event Calendar 2.0//EN
METHOD:PUBLISH
X-PUBLISHED-TTL:P3D
REFRESH-INTERVAL:P3D
CALSCALE:GREGORIAN
BEGIN:VEVENT
DTSTART;VALUE=DATE:20200122
DTEND;VALUE=DATE:20200321
TRANSP:TRANSPARENT
X-MICROSOFT-CDO-ALLDAYEVENT:TRUE
SUMMARY:CANCELED: Josh Hess Reception
DESCRIPTION:View the works of local artist Josh Hess in the Schwalbach Gallery located in the Lange Center at the UW Platteville Baraboo Sauk County Campus.\n\nShow is open from January 22 to March 20\, 2020\, 9 to 4 Monday through Friday. \n\nFree and open to the public.\n\nJoin us for a reception March 20 from 5 to 7 pm in the gallery. \n\n\n\nAbout the Schwalbach Gallery
X-ALT-DESC;FMTTYPE=text/html:<span style="color:black"><span style="font-family:source sans pro\,sans-serif">View the works of local artist Josh Hess in the&nbsp\;Schwalbach&nbsp\;Gallery located in the Lange Center&nbsp\;at the UW Platteville Baraboo Sauk County Campus.</span></span><br />\n<span style="color:black"><span style="font-family:source sans pro\,sans-serif">Show is open from January 22 to March 20\, 2020\, 9 to 4 Monday through Friday.&nbsp\;</span></span><br />\n<span style="color:black"><span style="font-family:source sans pro\,sans-serif">Free and open to the public.</span></span><br />\n<span style="color:black"><span style="font-family:source sans pro\,sans-serif">Join us for a&nbsp\;reception March 20 from 5 to 7 pm in the gallery.&nbsp\;</span></span><br />\n<br />\n<span style="color:black"><span style="font-family:source sans pro\,sans-serif">About the&nbsp\;<a href="https://campus.uwplatt.edu/baraboo/schwalbach-art-gallery" target="_blank" title="Link to gallery">Schwalbach Gallery</a></span></span><br />\n&nbsp\;
LOCATION:Schwalbach Gallery located in the Lange Center at the UW Platteville Baraboo Sauk County Campus
UID:e.1184.24018
SEQUENCE:3
DTSTAMP:20260423T025036Z
URL:http://members.saukprairie.com/events/details/josh-hess-show-and-reception-24018
END:VEVENT

END:VCALENDAR
