BEGIN:VCALENDAR
VERSION:2.0
PRODID:-//ChamberMaster//Event Calendar 2.0//EN
METHOD:PUBLISH
X-PUBLISHED-TTL:P3D
REFRESH-INTERVAL:P3D
CALSCALE:GREGORIAN
BEGIN:VEVENT
DTSTART;VALUE=DATE:20161224
DTEND;VALUE=DATE:20161226
TRANSP:TRANSPARENT
X-MICROSOFT-CDO-ALLDAYEVENT:TRUE
SUMMARY:Journey back to Bethlehem
DESCRIPTION:Saturday\, December 24\n\nOutdoor Living Nativity: 6pm & 6:20pm\n\nCandlelight Service: 7pm\n\n\n\nSunday\, December 25\n\nChristmas Day Service: 9:30am
X-ALT-DESC;FMTTYPE=text/html:Saturday\, December 24<br />\nOutdoor Living Nativity: 6pm &amp\; 6:20pm<br />\nCandlelight Service: 7pm<br />\n<br />\nSunday\, December 25<br />\nChristmas Day Service: 9:30am
LOCATION:GraceWay Church 65 13th Street Prairie du Sac\, WI 53578
UID:e.1184.9812
SEQUENCE:3
DTSTAMP:20260425T141907Z
URL:http://members.saukprairie.com/events/details/journey-back-to-bethlehem-9812
END:VEVENT

END:VCALENDAR
