BEGIN:VCALENDAR
VERSION:2.0
PRODID:-//ChamberMaster//Event Calendar 2.0//EN
METHOD:PUBLISH
X-PUBLISHED-TTL:P3D
REFRESH-INTERVAL:P3D
CALSCALE:GREGORIAN
BEGIN:VEVENT
DTSTART:20180730T180000Z
DTEND:20180730T190000Z
X-MICROSOFT-CDO-ALLDAYEVENT:FALSE
SUMMARY:Juggling & Balancing with Jason Kollum
DESCRIPTION:See the show\, become the pro with Jason Kollum at the Ruth Culver Community Library Monday\, July 30 at 1:00 p.m.  He'll start with a performance for all ages featuring big juggling and balancing stunts with balls\, clubs\, giant beanbag chairs and a huge finale! There's tons of zany comedy\, improvisation\, audience participation\, energy and excitement! After the show\, every child\, regardless of age\, can participate in a hands-on skills workshop! Contact Beth at 643-8318 with questions.
X-ALT-DESC;FMTTYPE=text/html:See the show\, become the pro with Jason Kollum at the Ruth Culver Community Library Monday\, July 30 at 1:00 p.m.&nbsp\; He&#39\;ll start with a performance for all ages featuring big juggling and balancing stunts with balls\, clubs\, giant beanbag chairs and a huge finale! There&#39\;s tons of zany comedy\, improvisation\, audience participation\, energy and excitement! After the show\, every child\, regardless of age\, can participate in a hands-on skills workshop! Contact Beth at 643-8318 with questions.
LOCATION:Ruth Culver Community Library 540 Water Street\, Prairie du Sac
UID:e.1184.18120
SEQUENCE:3
DTSTAMP:20260424T100903Z
URL:http://members.saukprairie.com/events/details/juggling-balancing-with-jason-kollum-18120
END:VEVENT

END:VCALENDAR
