BEGIN:VCALENDAR
VERSION:2.0
PRODID:-//ChamberMaster//Event Calendar 2.0//EN
METHOD:PUBLISH
X-PUBLISHED-TTL:P3D
REFRESH-INTERVAL:P3D
CALSCALE:GREGORIAN
BEGIN:VEVENT
DTSTART:20180731T233000Z
DTEND:20180801T013000Z
X-MICROSOFT-CDO-ALLDAYEVENT:FALSE
SUMMARY:July Tunes - Swifkick
DESCRIPTION:RESCHEDULED - SWIFKICK!\n\n\n\nEvery Tuesday in June brings a new band to Meyer Oak Grove Park. Food\, Fun\, and Friends with a vendor market kicker! Bring your blanket and a couple of friends for a relaxing evening in the park.\n\n \n\nThis Tuesday we feature Swifkick. Returning to play some great tunes which include country music and classic rock. This is a great show that will have you dancing all night!
X-ALT-DESC;FMTTYPE=text/html:<p style="border: 0px\; font-family: Asap\, sans-serif\; font-size: 12px\; margin: 0px\; outline: 0px\; padding: 0px\; vertical-align: baseline\; color: rgb(27\, 24\, 25)\; line-height: 18px\; background-color: rgb(244\, 243\, 240)\;">RESCHEDULED - SWIFKICK!<br />\n<br />\nEvery Tuesday in June brings a new band to Meyer Oak Grove Park. Food\, Fun\, and Friends with a vendor market kicker! Bring your blanket and a couple of friends for a relaxing evening in the park.<br />\n&nbsp\;</p>\n\n<p style="border: 0px\; font-family: Asap\, sans-serif\; font-size: 12px\; margin: 0px\; outline: 0px\; padding: 0px\; vertical-align: baseline\; color: rgb(27\, 24\, 25)\; line-height: 18px\; background-color: rgb(244\, 243\, 240)\;">This Tuesday we feature&nbsp\;<a data-hovercard="/ajax/hovercard/page.php?id=279133042222565&amp\;extragetparams=%7B%22directed_target_id%22%3A144741169681300%7D" data-hovercard-prefer-more-content-show="1" href="https://www.facebook.com/Swifkick/" style="border: 0px\; font-style: inherit\; font-weight: inherit\; margin: 0px\; outline: 0px\; padding: 0px\; vertical-align: baseline\; color: rgb(153\, 153\, 153)\; line-height: 18px\; text-decoration-line: none\;">Swifkick</a>. Returning to play some great tunes which include country music and classic rock. This is a great show that will have you dancing all night!</p>\n
LOCATION:Meyer Oak Grove Park
UID:e.1184.20477
SEQUENCE:3
DTSTAMP:20260424T100720Z
URL:http://members.saukprairie.com/events/details/july-tunes-swifkick-20477
END:VEVENT

END:VCALENDAR
