BEGIN:VCALENDAR
VERSION:2.0
PRODID:-//ChamberMaster//Event Calendar 2.0//EN
METHOD:PUBLISH
X-PUBLISHED-TTL:P3D
REFRESH-INTERVAL:P3D
CALSCALE:GREGORIAN
BEGIN:VEVENT
DTSTART;VALUE=DATE:20160624
DTEND;VALUE=DATE:20160625
TRANSP:TRANSPARENT
X-MICROSOFT-CDO-ALLDAYEVENT:TRUE
SUMMARY:June Dairy Day - Bank of PDS
DESCRIPTION:Bank of Prairie du Sac hosts an annual Dairy Day event to celebrate  National June Dairy Month. We will have trucks\, tractors and kids activities from 11:00 AM   2:00 PM at our Prairie du Sac location. Customers and community members will enjoy lunch\, FFA popcorn\, and dairy treats while listening to local musicians. NEW this year! We will celebrate Eaglee Eagle's birthday for all Eaglee Saver's Club Members. Please watch for additional details about the birthday festivities here!
X-ALT-DESC;FMTTYPE=text/html:<span style="color: rgb(5\, 43\, 39)\; font-family: verdana\, tahoma\, arial\, helvetica\, sans-serif\; font-size: 12px\; line-height: normal\;">Bank of Prairie du Sac hosts an annual Dairy Day event to celebrate&nbsp\; National June Dairy Month. We will have trucks\, tractors and kids activities from 11:00 AM &ndash\; 2:00 PM at our Prairie du Sac location. Customers and community members will enjoy lunch\, FFA popcorn\, and dairy treats while listening to local musicians.&nbsp\;</span><strong style="color: rgb(14\, 137\, 122)\; font-family: verdana\, tahoma\, arial\, helvetica\, sans-serif\; font-size: 12px\; line-height: normal\;">NEW&nbsp\;this year!</strong><span style="color: rgb(5\, 43\, 39)\; font-family: verdana\, tahoma\, arial\, helvetica\, sans-serif\; font-size: 12px\; line-height: normal\;">&nbsp\;We will celebrate Eaglee Eagle&#39\;s birthday for all Eaglee Saver&#39\;s Club Members. Please watch for additional details about the birthday festivities here!</span>
LOCATION:
UID:e.1184.8354
SEQUENCE:3
DTSTAMP:20260426T004209Z
URL:http://members.saukprairie.com/events/details/june-dairy-day-bank-of-pds-06-24-2016-8354
END:VEVENT

END:VCALENDAR
