BEGIN:VCALENDAR
VERSION:2.0
PRODID:-//ChamberMaster//Event Calendar 2.0//EN
METHOD:PUBLISH
X-PUBLISHED-TTL:P3D
REFRESH-INTERVAL:P3D
CALSCALE:GREGORIAN
BEGIN:VEVENT
DTSTART:20220628T233000Z
DTEND:20220629T013000Z
X-MICROSOFT-CDO-ALLDAYEVENT:FALSE
SUMMARY:June Tunes - Best Practice
DESCRIPTION:Every Tuesday in June brings a new band to Meyer Oak Grove Park. Non-Profit food stands\, Food Trucks & Fun! Bring your blanket and a couple of friends for a relaxing evening in the park. This Tuesday we feature Best Practice.\n\n\n\nBest Practice loves music--singin' along\, bustin' a move\, and getting together with friends to turn those exciting feelings into reality.  We play music that makes people want to smile and shout\, "Yeah! I 'love' this song!"  Invite us to your next event and let us help you make it one to remember!\n\n\n\nClick to learn more about the band.
X-ALT-DESC;FMTTYPE=text/html:Every Tuesday in June brings a new band to Meyer Oak Grove Park. Non-Profit food stands\, Food Trucks &amp\; Fun! Bring your blanket and a couple of friends for a relaxing evening in the park. This Tuesday we feature <strong>Best Practice.</strong><br />\n<br />\nBest Practice loves music--singin&#39\; along\, bustin&#39\; a move\, and getting together with friends to turn those exciting feelings into reality.&nbsp\; We play music that makes people want to smile and shout\, &quot\;Yeah! I &#39\;love&#39\; this song!&quot\;&nbsp\; Invite us to your next event and let us help you make it one to remember!<br />\n<br />\n<a href="https://www.bestpractice5.com/&#8203\;">Click to learn more about the band.</a>
LOCATION:Meyer Oak Grove Park
UID:e.1184.27143
SEQUENCE:3
DTSTAMP:20260421T115821Z
URL:http://members.saukprairie.com/events/details/june-tunes-best-practice-27143
END:VEVENT

END:VCALENDAR
