BEGIN:VCALENDAR
VERSION:2.0
PRODID:-//ChamberMaster//Event Calendar 2.0//EN
METHOD:PUBLISH
X-PUBLISHED-TTL:P3D
REFRESH-INTERVAL:P3D
CALSCALE:GREGORIAN
BEGIN:VEVENT
DTSTART:20190625T233000Z
DTEND:20190626T013000Z
X-MICROSOFT-CDO-ALLDAYEVENT:FALSE
SUMMARY:June Tunes - Blue Steel Band
DESCRIPTION:The BLUE STEEL band is a highly energetic group of experienced performers that havejoined together to combine the best of today's top 40 country with the best that country & rock has had to offer in the past. \n\n	Food available for purchase from non-profits.
X-ALT-DESC;FMTTYPE=text/html:The BLUE STEEL band is a highly energetic group of experienced performers that havejoined together to combine the best of today&#39\;s top 40 country with the best that country &amp\; rock has had to offer in the past.&nbsp\;\n<ul>\n	<li><span style="font-family: arial\;">Food available for purchase from non-profits.</span></li>\n</ul>\n
LOCATION:Meyer Oak Grove Park
UID:e.1184.22170
SEQUENCE:3
DTSTAMP:20260423T154423Z
URL:http://members.saukprairie.com/events/details/june-tunes-blue-steel-band-22170
END:VEVENT

END:VCALENDAR
