BEGIN:VCALENDAR
VERSION:2.0
PRODID:-//ChamberMaster//Event Calendar 2.0//EN
METHOD:PUBLISH
X-PUBLISHED-TTL:P3D
REFRESH-INTERVAL:P3D
CALSCALE:GREGORIAN
BEGIN:VEVENT
DTSTART:20240611T233000Z
DTEND:20240612T013000Z
X-MICROSOFT-CDO-ALLDAYEVENT:FALSE
SUMMARY:June Tunes - Eric Diamond
DESCRIPTION:Every Tuesday in June brings a new band to Meyer Oak Grove Park. Non-Profit food stands\, Food Trucks & Fun! Bring your blanket and a couple of friends for a relaxing evening in the park.\n\n \n\nFood Trucks:\n\nSabor Reigio\n\nCommand Center\n\nWOW\n\nDonut NV\n\nKona Ice\n\n\n\nNon-Profit Food Stands:\n\nSauk Prairie Food Against Hunger (serving Cinnayums and popcorn)\n\nSauk Prairie Optimist Club (serving Culver's Custard)\n\nSauk Prairie Area Food Pantry (taking donations)\n\n \n\nEric Diamond is a Neil Diamond Tribute Artist based out of southeastern Wisconsin. He has performed and perfected the act for over two decades and has been titled Wisconsin's Favorite Neil Diamond Tribute Artist since 2009.\n\n \n\nAlso\, check out their website for upcoming dates and pictures:\n\n\n\nericdiamondproductions.com
X-ALT-DESC;FMTTYPE=text/html:<p style="box-sizing: border-box\; font-size: var(--tec-font-size-4)\; margin-bottom: var(--tec-spacer-3)\; line-height: var(--tec-line-height-2)\; color: rgb(20\, 24\, 39)\; font-family: &quot\;Helvetica Neue&quot\;\, Helvetica\, -apple-system\, BlinkMacSystemFont\, Roboto\, Arial\, sans-serif\;">Every Tuesday in June brings a new band to Meyer Oak Grove Park. Non-Profit food stands\, Food Trucks &amp\; Fun! Bring your blanket and a couple of friends for a relaxing evening in the park.<br />\n&nbsp\;</p>\n\n<p style="box-sizing: border-box\; font-size: var(--tec-font-size-4)\; margin-bottom: var(--tec-spacer-3)\; line-height: var(--tec-line-height-2)\; color: rgb(20\, 24\, 39)\; font-family: &quot\;Helvetica Neue&quot\;\, Helvetica\, -apple-system\, BlinkMacSystemFont\, Roboto\, Arial\, sans-serif\;">Food Trucks:<br />\nSabor Reigio<br />\nCommand Center<br />\nWOW<br />\nDonut NV<br />\nKona Ice<br />\n<br />\nNon-Profit Food Stands:<br />\nSauk Prairie Food Against Hunger (serving Cinnayums and popcorn)<br />\nSauk Prairie Optimist Club (serving Culver&#39\;s Custard)<br />\nSauk Prairie Area Food Pantry (taking donations)<br />\n&nbsp\;</p>\n\n<p style="box-sizing: border-box\; font-size: var(--tec-font-size-4)\; margin-bottom: var(--tec-spacer-3)\; line-height: var(--tec-line-height-2)\; color: rgb(20\, 24\, 39)\; font-family: &quot\;Helvetica Neue&quot\;\, Helvetica\, -apple-system\, BlinkMacSystemFont\, Roboto\, Arial\, sans-serif\;">Eric Diamond is a Neil Diamond Tribute Artist based out of southeastern Wisconsin. He has performed and perfected the act for over two decades and has been titled Wisconsin&rsquo\;s Favorite Neil Diamond Tribute Artist since 2009.<br />\n&nbsp\;</p>\n\n<p style="box-sizing: border-box\; font-size: var(--tec-font-size-4)\; margin-bottom: var(--tec-spacer-6)\; line-height: var(--tec-line-height-2)\; color: rgb(20\, 24\, 39)\; font-family: &quot\;Helvetica Neue&quot\;\, Helvetica\, -apple-system\, BlinkMacSystemFont\, Roboto\, Arial\, sans-serif\;">Also\, check out their website for upcoming dates and pictures:<br />\n<br />\n<a href="https://ericdiamondproductions.com/?fbclid=IwAR1FQDbV948Sg9bDFIDdxQzHhqVCL_StPkqF40ESUQR2Pw7GxqLlIRdNd7A"><b><u>ericdiamondproductions.com</u></b></a></p>\n
LOCATION:Meyer Oak Grove Park - Sauk City
UID:e.1184.31628
SEQUENCE:3
DTSTAMP:20260419T191817Z
URL:http://members.saukprairie.com/events/details/june-tunes-eric-diamond-31628
END:VEVENT

END:VCALENDAR
