BEGIN:VCALENDAR
VERSION:2.0
PRODID:-//ChamberMaster//Event Calendar 2.0//EN
METHOD:PUBLISH
X-PUBLISHED-TTL:P3D
REFRESH-INTERVAL:P3D
CALSCALE:GREGORIAN
BEGIN:VEVENT
DTSTART:20190604T233000Z
DTEND:20190605T013000Z
X-MICROSOFT-CDO-ALLDAYEVENT:FALSE
SUMMARY:June Tunes - Mad City Jug Band
DESCRIPTION:The Mad City Jug Band is dedicated to celebrating & preserving the classic jug band & hokum repertoire from the 1920's & 1930's\, as well as popular songs from that era. We also include jug band revival tunes of the 1960's from such notables as the Grateful Dead\, The Lovin' Spoonful\, Jim Kweskin & Maria Muldaur.\n\n	Food available for purchase from non-profits.
X-ALT-DESC;FMTTYPE=text/html:The Mad City Jug Band is dedicated to celebrating &amp\; preserving the classic jug band &amp\; hokum repertoire from the 1920&rsquo\;s &amp\; 1930&rsquo\;s\, as well as popular songs from that era. We also&nbsp\;include jug band revival tunes of the 1960&rsquo\;s from&nbsp\;such notables as the Grateful Dead\, The Lovin&#39\;&nbsp\;Spoonful\, Jim Kweskin &amp\; Maria Muldaur.\n<ul>\n	<li><span style="font-family: arial\;">Food available for purchase from non-profits.</span></li>\n</ul>\n
LOCATION:Meyer Oak Grove Park
UID:e.1184.22168
SEQUENCE:3
DTSTAMP:20260423T154656Z
URL:http://members.saukprairie.com/events/details/june-tunes-mad-city-jug-band-22168
END:VEVENT

END:VCALENDAR
