BEGIN:VCALENDAR
VERSION:2.0
PRODID:-//ChamberMaster//Event Calendar 2.0//EN
METHOD:PUBLISH
X-PUBLISHED-TTL:P3D
REFRESH-INTERVAL:P3D
CALSCALE:GREGORIAN
BEGIN:VEVENT
DTSTART:20180612T233000Z
DTEND:20180613T013000Z
X-MICROSOFT-CDO-ALLDAYEVENT:FALSE
SUMMARY:June Tunes - Marcy & The Highlights
DESCRIPTION:Every Tuesday in June brings a new band to Meyer Oak Grove Park. Food\, Fun\, and Friends with a vendor market kicker! Bring your blanket and a couple of friends for a relaxing evening in the park.\n\n \n\nThis Tuesday we feature Marcy & The Highlights. They have been entertaining audiences in the Midwest for years. Best known as a variety DANCE band\, we perform our originals\, 50's and 60's\, country\,Latin\, blues\, rock\, standards and much more.
X-ALT-DESC;FMTTYPE=text/html:<p style="border: 0px\; font-family: Asap\, sans-serif\; font-size: 12px\; margin: 0px\; outline: 0px\; padding: 0px\; vertical-align: baseline\; color: rgb(27\, 24\, 25)\; line-height: 18px\; background-color: rgb(244\, 243\, 240)\;">Every Tuesday in June brings a new band to Meyer Oak Grove Park. Food\, Fun\, and Friends with a vendor market kicker! Bring your blanket and a couple of friends for a relaxing evening in the park.<br />\n&nbsp\;</p>\n\n<p style="border: 0px\; font-family: Asap\, sans-serif\; font-size: 12px\; margin: 0px\; outline: 0px\; padding: 0px\; vertical-align: baseline\; color: rgb(27\, 24\, 25)\; line-height: 18px\; background-color: rgb(244\, 243\, 240)\;">This Tuesday we feature Marcy &amp\; The Highlights. They have been entertaining audiences in the Midwest for years. Best known as a variety DANCE band\, we perform our originals\, 50&rsquo\;s and 60&rsquo\;s\, country\,Latin\, blues\, rock\, standards and much more.</p>\n
LOCATION:Meyer Oak Grove Park
UID:e.1184.17781
SEQUENCE:3
DTSTAMP:20260424T114222Z
URL:http://members.saukprairie.com/events/details/june-tunes-marcy-the-highlights-17781
END:VEVENT

END:VCALENDAR
