BEGIN:VCALENDAR
VERSION:2.0
PRODID:-//ChamberMaster//Event Calendar 2.0//EN
METHOD:PUBLISH
X-PUBLISHED-TTL:P3D
REFRESH-INTERVAL:P3D
CALSCALE:GREGORIAN
BEGIN:VEVENT
DTSTART:20190618T233000Z
DTEND:20190619T013000Z
X-MICROSOFT-CDO-ALLDAYEVENT:FALSE
SUMMARY:June Tunes - Say It Ain't Soul
DESCRIPTION:From the purple quartzite bluffs of Baraboo\, WI comes a new funk/soul group that  puts the "power" in power trio: SAY IT AIN'T SOUL.  Plundering of the late 60's & early 70's funk\, soul & R&B.\n\n	Food available for purchase from non-profits.
X-ALT-DESC;FMTTYPE=text/html:From the purple quartzite bluffs of Baraboo\, WI comes a new funk/soul group that&nbsp\; puts the &quot\;power&quot\; in power trio: SAY IT AIN&#39\;T SOUL.&nbsp\; Plundering of the late 60&rsquo\;s &amp\; early&nbsp\;70&rsquo\;s funk\, soul &amp\; R&amp\;B.\n<ul>\n	<li><span style="font-family: arial\;">Food available for purchase from non-profits.</span></li>\n</ul>\n
LOCATION:Meyer Oak Grove Park
UID:e.1184.22169
SEQUENCE:3
DTSTAMP:20260423T171907Z
URL:http://members.saukprairie.com/events/details/june-tunes-say-it-ain-t-soul-22169
END:VEVENT

END:VCALENDAR
