BEGIN:VCALENDAR
VERSION:2.0
PRODID:-//ChamberMaster//Event Calendar 2.0//EN
METHOD:PUBLISH
X-PUBLISHED-TTL:P3D
REFRESH-INTERVAL:P3D
CALSCALE:GREGORIAN
BEGIN:VEVENT
DTSTART:20210629T233000Z
DTEND:20210630T013000Z
X-MICROSOFT-CDO-ALLDAYEVENT:FALSE
SUMMARY:June Tunes - Swifkick
DESCRIPTION:Swifkick is a top 40 Country and Classic Rock band\, serving South Central Wisconsin since 2008. Also check out their website swifkick.com for dates and pictures.\n\n	Food available for purchase from a Food Truck (will change each week) and a Dessert Food Truck
X-ALT-DESC;FMTTYPE=text/html:Swifkick is a top 40 Country and Classic Rock band\, serving South Central Wisconsin since 2008. Also check out their website swifkick.com for dates and pictures.\n<ul>\n	<li><span style="font-family: arial\;">Food available for purchase from a Food Truck (will change each week) and a Dessert Food Truck</span></li>\n</ul>\n
LOCATION:Meyer Oak Grove Park
UID:e.1184.26463
SEQUENCE:3
DTSTAMP:20260422T034719Z
URL:http://members.saukprairie.com/events/details/june-tunes-swifkick-26463
END:VEVENT

END:VCALENDAR
