BEGIN:VCALENDAR
VERSION:2.0
PRODID:-//ChamberMaster//Event Calendar 2.0//EN
METHOD:PUBLISH
X-PUBLISHED-TTL:P3D
REFRESH-INTERVAL:P3D
CALSCALE:GREGORIAN
BEGIN:VEVENT
DTSTART:20220614T233000Z
DTEND:20220615T013000Z
X-MICROSOFT-CDO-ALLDAYEVENT:FALSE
SUMMARY:June Tunes - The Pat Watters Band
DESCRIPTION:Every Tuesday in June brings a new band to Meyer Oak Grove Park. Non-Profit food stands\, Food Trucks & Fun! Bring your blanket and a couple of friends for a relaxing evening in the park. This Tuesday we feature The Pat Watters Band.\n\n\n\nSince 2008\, The Pat Watters Band has blazed a trail through the upper Midwest to develop and amplify a new voice in country music. A voice that reflects and represents the Wisconsin lifestyle.\n\n\n\nClick to learn more about the band.
X-ALT-DESC;FMTTYPE=text/html:Every Tuesday in June brings a new band to Meyer Oak Grove Park. Non-Profit food stands\, Food Trucks &amp\; Fun! Bring your blanket and a couple of friends for a relaxing evening in the park. This Tuesday we feature <strong>The Pat Watters Band.</strong><br />\n<br />\nSince 2008\, The Pat Watters Band has blazed a trail through the upper Midwest to develop and amplify a new voice in country music. A voice that reflects and represents the Wisconsin lifestyle.<br />\n<br />\n<a href="https://www.patwattersband.com/home">Click to learn more about the band.</a>
LOCATION:Meyer Oak Grove Park
UID:e.1184.27141
SEQUENCE:3
DTSTAMP:20260421T121037Z
URL:http://members.saukprairie.com/events/details/june-tunes-the-pat-watters-band-27141
END:VEVENT

END:VCALENDAR
