BEGIN:VCALENDAR
VERSION:2.0
PRODID:-//ChamberMaster//Event Calendar 2.0//EN
METHOD:PUBLISH
X-PUBLISHED-TTL:P3D
REFRESH-INTERVAL:P3D
CALSCALE:GREGORIAN
BEGIN:VEVENT
DTSTART:20210622T233000Z
DTEND:20210623T013000Z
X-MICROSOFT-CDO-ALLDAYEVENT:FALSE
SUMMARY:June Tunes - Union Road
DESCRIPTION:Union Road is known for their multi-genre variety of music ranging from the 60s\, 70s\, 80s\, 90s\, through current hits. With something to please every crowd\, Union Road appeals to easy-listeners and boot-scooters alike.\n\n	Food available for purchase from Food Truck (will change each week) and a Dessert Food Truck
X-ALT-DESC;FMTTYPE=text/html:<span style="font-size:14px\;"><span style="color: rgb(28\, 30\, 33)\; font-family: Helvetica\, Arial\, sans-serif\;">Union Road is known for their multi-genre variety of music ranging from the 60s\, 70s\, 80s\, 90s\, through current hits. With something to please every crowd\, Union Road appeals to easy-listeners and boot-scooters alike.</span></span>\n<ul>\n	<li><span style="font-family: arial\;">Food available for purchase from Food Truck (will change each week) and a Dessert Food Truck</span></li>\n</ul>\n
LOCATION:Meyer Oak Grove Park
UID:e.1184.26462
SEQUENCE:3
DTSTAMP:20260422T034749Z
URL:http://members.saukprairie.com/events/details/june-tunes-union-road-26462
END:VEVENT

END:VCALENDAR
