BEGIN:VCALENDAR
VERSION:2.0
PRODID:-//ChamberMaster//Event Calendar 2.0//EN
METHOD:PUBLISH
X-PUBLISHED-TTL:P3D
REFRESH-INTERVAL:P3D
CALSCALE:GREGORIAN
BEGIN:VEVENT
DTSTART:20240702T233000Z
DTEND:20240703T013000Z
X-MICROSOFT-CDO-ALLDAYEVENT:FALSE
SUMMARY:June Tunes - Water Street Jacks
DESCRIPTION:Only this Tuesday in July brings you the rescheduled Water Street Jacks @ Meyer Oak Grove Park. Non-Profit food stands\, Food Trucks & Fun! Bring your blanket and a couple of friends for a relaxing evening in the park.\n\n \n\nFood Trucks:\n\nJose's\n\nCommand Center\n\nWOW\n\nDonut NV\n\nKona Ice\n\n\n\nNon-Profit Food Stands:\n\nSauk Prairie Food Against Hunger (serving Cinnayums and popcorn)\n\nSauk Prairie Optimist Club (serving Culver's Custard)\n\nSauk Prairie Area Food Pantry (taking donations)\n\nWater Street Jacks is an Americana\, folk-rock band out of southern Wisconsin. Bringing you four-part harmonies\, unique covers\, and a handful of original tunes.\n\n \n\nAlso\, check out their website for upcoming dates and pictures:\n\n\n\nwaterstreetjacks.com
X-ALT-DESC;FMTTYPE=text/html:<p style="box-sizing: border-box\; font-size: var(--tec-font-size-4)\; margin-bottom: var(--tec-spacer-3)\; line-height: var(--tec-line-height-2)\; color: rgb(20\, 24\, 39)\; font-family: &quot\;Helvetica Neue&quot\;\, Helvetica\, -apple-system\, BlinkMacSystemFont\, Roboto\, Arial\, sans-serif\;">Only this Tuesday in July brings you the rescheduled Water Street Jacks @&nbsp\;Meyer Oak Grove Park. Non-Profit food stands\, Food Trucks &amp\; Fun! Bring your blanket and a couple of friends for a relaxing evening in the park.<br />\n&nbsp\;</p>\n\n<p style="box-sizing: border-box\; font-size: var(--tec-font-size-4)\; margin-bottom: var(--tec-spacer-3)\; line-height: var(--tec-line-height-2)\; color: rgb(20\, 24\, 39)\; font-family: &quot\;Helvetica Neue&quot\;\, Helvetica\, -apple-system\, BlinkMacSystemFont\, Roboto\, Arial\, sans-serif\;">Food Trucks:<br />\nJose&#39\;s<br />\nCommand Center<br />\nWOW<br />\n<span style="color: rgb(20\, 24\, 39)\; font-family: &quot\;Helvetica Neue&quot\;\, Helvetica\, -apple-system\, BlinkMacSystemFont\, Roboto\, Arial\, sans-serif\;">Donut NV</span><br style="color: rgb(20\, 24\, 39)\; font-family: &quot\;Helvetica Neue&quot\;\, Helvetica\, -apple-system\, BlinkMacSystemFont\, Roboto\, Arial\, sans-serif\;" />\n<span style="color: rgb(20\, 24\, 39)\; font-family: &quot\;Helvetica Neue&quot\;\, Helvetica\, -apple-system\, BlinkMacSystemFont\, Roboto\, Arial\, sans-serif\;">Kona Ice</span><br />\n<br />\nNon-Profit Food Stands:<br />\nSauk Prairie Food Against Hunger (serving Cinnayums and popcorn)<br />\nSauk Prairie Optimist Club (serving Culver&#39\;s Custard)<br />\nSauk Prairie Area Food Pantry (taking donations)</p>\n\n<p style="box-sizing: border-box\; font-size: var(--tec-font-size-4)\; margin-bottom: var(--tec-spacer-3)\; line-height: var(--tec-line-height-2)\; color: rgb(20\, 24\, 39)\; font-family: &quot\;Helvetica Neue&quot\;\, Helvetica\, -apple-system\, BlinkMacSystemFont\, Roboto\, Arial\, sans-serif\;">Water Street Jacks is an Americana\, folk-rock band out of southern Wisconsin. Bringing you four-part harmonies\, unique covers\, and a handful of original tunes.<br />\n&nbsp\;</p>\n\n<p style="box-sizing: border-box\; font-size: var(--tec-font-size-4)\; margin-bottom: var(--tec-spacer-6)\; line-height: var(--tec-line-height-2)\; color: rgb(20\, 24\, 39)\; font-family: &quot\;Helvetica Neue&quot\;\, Helvetica\, -apple-system\, BlinkMacSystemFont\, Roboto\, Arial\, sans-serif\;">Also\, check out their website for upcoming dates and pictures:<br />\n<br />\n<u><strong><a href="https://sites.google.com/view/waterstreetjacks">waterstreetjacks.com</a></strong></u></p>\n
LOCATION:Meyer Oak Grove Park - Sauk City
UID:e.1184.31627
SEQUENCE:3
DTSTAMP:20260419T192312Z
URL:http://members.saukprairie.com/events/details/june-tunes-water-street-jacks-31627
END:VEVENT

END:VCALENDAR
