BEGIN:VCALENDAR
VERSION:2.0
PRODID:-//ChamberMaster//Event Calendar 2.0//EN
METHOD:PUBLISH
X-PUBLISHED-TTL:P3D
REFRESH-INTERVAL:P3D
CALSCALE:GREGORIAN
BEGIN:VEVENT
DTSTART:20240625T233000Z
DTEND:20240626T013000Z
X-MICROSOFT-CDO-ALLDAYEVENT:FALSE
SUMMARY:June Tunes - West on 12
DESCRIPTION:Every Tuesday in June brings a new band to Meyer Oak Grove Park. Non-Profit food stands\, Food Trucks & Fun! Bring your blanket and a couple of friends for a relaxing evening in the park.\n\n \n\nFood Trucks:\n\nSabor Reigio\n\nCommand Center\n\nWOW\n\nDonut NV\n\nKona Ice\n\n\n\nNon-Profit Food Stands:\n\nSauk Prairie Food Against Hunger (serving Cinnayums and popcorn)\n\nSauk Prairie Optimist Club (serving Culver's Custard and collecting donations for the Sauk Prairie Area Food Pantry) \n\nWest on 12 is not a one trick pony. We bring over 20 years of combined experience performing live shows throughout the state playing multiple genres ranging from rock\, classic rock\, country and pop. Our main focus is to please our fans that come to see us perform live.\n\n\n\nWe are a rock cover band from the Madison Wisconsin area that plays songs from the 1970's through early 2000's. We cover your favorite classics and also put a rock edge on current hits.\n\n \n\nAlso\, check out their website for upcoming dates and pictures:\n\n\n\nweston12.com
X-ALT-DESC;FMTTYPE=text/html:<p style="box-sizing: border-box\; font-size: var(--tec-font-size-4)\; margin-bottom: var(--tec-spacer-3)\; line-height: var(--tec-line-height-2)\; color: rgb(20\, 24\, 39)\; font-family: &quot\;Helvetica Neue&quot\;\, Helvetica\, -apple-system\, BlinkMacSystemFont\, Roboto\, Arial\, sans-serif\;">Every Tuesday in June brings a new band to Meyer Oak Grove Park. Non-Profit food stands\, Food Trucks &amp\; Fun! Bring your blanket and a couple of friends for a relaxing evening in the park.<br />\n&nbsp\;</p>\n\n<p style="box-sizing: border-box\; font-size: var(--tec-font-size-4)\; margin-bottom: var(--tec-spacer-3)\; line-height: var(--tec-line-height-2)\; color: rgb(20\, 24\, 39)\; font-family: &quot\;Helvetica Neue&quot\;\, Helvetica\, -apple-system\, BlinkMacSystemFont\, Roboto\, Arial\, sans-serif\;">Food Trucks:<br />\nSabor Reigio<br />\nCommand Center<br />\nWOW<br />\n<span style="color: rgb(20\, 24\, 39)\; font-family: &quot\;Helvetica Neue&quot\;\, Helvetica\, -apple-system\, BlinkMacSystemFont\, Roboto\, Arial\, sans-serif\;">Donut NV</span><br style="color: rgb(20\, 24\, 39)\; font-family: &quot\;Helvetica Neue&quot\;\, Helvetica\, -apple-system\, BlinkMacSystemFont\, Roboto\, Arial\, sans-serif\;" />\n<span style="color: rgb(20\, 24\, 39)\; font-family: &quot\;Helvetica Neue&quot\;\, Helvetica\, -apple-system\, BlinkMacSystemFont\, Roboto\, Arial\, sans-serif\;">Kona Ice</span><br />\n<br />\nNon-Profit Food Stands:<br />\nSauk Prairie Food Against Hunger (serving Cinnayums and popcorn)<br />\nSauk Prairie Optimist Club (serving Culver&#39\;s Custard and collecting donations for the&nbsp\;Sauk Prairie Area Food Pantry)&nbsp\;</p>\n\n<p style="box-sizing: border-box\; font-size: var(--tec-font-size-4)\; margin-bottom: var(--tec-spacer-3)\; line-height: var(--tec-line-height-2)\; color: rgb(20\, 24\, 39)\; font-family: &quot\;Helvetica Neue&quot\;\, Helvetica\, -apple-system\, BlinkMacSystemFont\, Roboto\, Arial\, sans-serif\;">West on 12 is not a one trick pony. We bring over 20 years of combined experience performing live shows throughout the state playing multiple genres ranging from rock\, classic rock\, country and pop. Our main focus is to please our fans that come to see us perform live.<br />\n<br />\n<span style="color: rgb(20\, 24\, 39)\; font-family: &quot\;Helvetica Neue&quot\;\, Helvetica\, -apple-system\, BlinkMacSystemFont\, Roboto\, Arial\, sans-serif\;">We are a rock cover band from the Madison Wisconsin area that plays songs from the 1970&rsquo\;s through early 2000&rsquo\;s. We cover your favorite classics and also put a rock edge on current hits.</span><br />\n&nbsp\;</p>\n\n<p style="box-sizing: border-box\; font-size: var(--tec-font-size-4)\; margin-bottom: var(--tec-spacer-6)\; line-height: var(--tec-line-height-2)\; color: rgb(20\, 24\, 39)\; font-family: &quot\;Helvetica Neue&quot\;\, Helvetica\, -apple-system\, BlinkMacSystemFont\, Roboto\, Arial\, sans-serif\;">Also\, check out their website for upcoming dates and pictures:<br />\n<br />\n<u><strong><a href="https://www.weston12.com/?fbclid=IwAR3Hf2pqThKrMbWfP5mUVKm9ngdMkXInRTrkzulUSy-6LfOqgdFRHXoajPM">weston12.com</a></strong></u></p>\n
LOCATION:Meyer Oak Grove Park - Sauk City
UID:e.1184.31567
SEQUENCE:3
DTSTAMP:20260419T192209Z
URL:http://members.saukprairie.com/events/details/june-tunes-west-on-12-06-25-2024-31567
END:VEVENT

END:VCALENDAR
