BEGIN:VCALENDAR
VERSION:2.0
PRODID:-//ChamberMaster//Event Calendar 2.0//EN
METHOD:PUBLISH
X-PUBLISHED-TTL:P3D
REFRESH-INTERVAL:P3D
CALSCALE:GREGORIAN
BEGIN:VEVENT
DTSTART:20210601T233000Z
DTEND:20210602T013000Z
X-MICROSOFT-CDO-ALLDAYEVENT:FALSE
SUMMARY:June Tunes - WheelHouse
DESCRIPTION:WheelHouse is a bluegrass band hailing from Madison\, WI. They have played well over a thousand shows in the past 6 years and released 5 records. Featuring three and four part harmonies\, fiddle and guitar leads\, and driving rhythm of the upright bass WheelHouse brings an energy and attitude unique to themselves.\n\n	Food available for purchase from a Food Truck (will change each week) and a Dessert Food Truck
X-ALT-DESC;FMTTYPE=text/html:WheelHouse is a bluegrass band hailing from Madison\, WI. They have played well over a thousand shows in the past 6 years and released 5 records. Featuring three and four part harmonies\, fiddle and guitar leads\, and driving rhythm of the upright bass WheelHouse brings an energy and attitude unique to themselves.\n<ul>\n	<li><span style="font-family: arial\;">Food available for purchase from a Food Truck (will change each week) and a Dessert Food Truck</span></li>\n</ul>\n
LOCATION:Meyer Oak Grove Park
UID:e.1184.26460
SEQUENCE:3
DTSTAMP:20260422T034749Z
URL:http://members.saukprairie.com/events/details/june-tunes-wheelhouse-26460
END:VEVENT

END:VCALENDAR
