BEGIN:VCALENDAR
VERSION:2.0
PRODID:-//ChamberMaster//Event Calendar 2.0//EN
METHOD:PUBLISH
X-PUBLISHED-TTL:P3D
REFRESH-INTERVAL:P3D
CALSCALE:GREGORIAN
BEGIN:VEVENT
DTSTART;VALUE=DATE:20210501
DTEND;VALUE=DATE:20210502
TRANSP:TRANSPARENT
X-MICROSOFT-CDO-ALLDAYEVENT:TRUE
SUMMARY:Kaleb Woods @ H's Place Kentucky Derby Party
DESCRIPTION:Grab your pantsuits and derby hats\, and let's party! Playing all your favorite music to drink to!
X-ALT-DESC;FMTTYPE=text/html:<div class="kvgmc6g5 cxmmr5t8 oygrvhab hcukyx3x c1et5uql" style="overflow-wrap: break-word\; margin: 0px\; font-family: inherit\;"><span class="d2edcug0 hpfvmrgz qv66sw1b c1et5uql lr9zc1uh a8c37x1j keod5gw0 nxhoafnm aigsh9s9 d3f4x2em fe6kdd0r mau55g9w c8b282yb iv3no6db jq4qci2q a3bd9o3v knj5qynh oo9gr5id" dir="auto" style="line-height: 1.3333\; display: block\; overflow-wrap: break-word\; max-width: 100%\; min-width: 0px\; font-size: 0.9375rem\; font-family: &quot\;Segoe UI Historic&quot\;\, &quot\;Segoe UI&quot\;\, Helvetica\, Arial\, sans-serif\; color: var(--primary-text)\; word-break: break-word\;">Grab your pantsuits and derby hats\, and let&#39\;s party! Playing all your favorite music to drink to!</span></div>\n
LOCATION:H's Place
UID:e.1184.26620
SEQUENCE:3
DTSTAMP:20260422T051740Z
URL:http://members.saukprairie.com/events/details/kaleb-woods-h-s-place-kentucky-derby-party-26620
END:VEVENT

END:VCALENDAR
