BEGIN:VCALENDAR
VERSION:2.0
PRODID:-//ChamberMaster//Event Calendar 2.0//EN
METHOD:PUBLISH
X-PUBLISHED-TTL:P3D
REFRESH-INTERVAL:P3D
CALSCALE:GREGORIAN
BEGIN:VEVENT
DTSTART:20240814T000000Z
DTEND:20240814T030000Z
X-MICROSOFT-CDO-ALLDAYEVENT:FALSE
SUMMARY:Karaoke Night!
DESCRIPTION:It's karaoke night at Water Street Social Club!\n\n\n\nBring our your inner diva and join us for a fun night of music!\n\nAll ages welcome.\n\n\n\n*Please be aware that while this is an all ages event\, we do not censor songs that our patrons choose to sing and there might be music that is inappropriate for young children.
X-ALT-DESC;FMTTYPE=text/html:It&#39\;s karaoke night at Water Street Social Club!<br />\n<br />\nBring our your inner diva and join us for a fun night of music!<br />\nAll ages welcome.<br />\n<br />\n*Please be aware that while this is an all ages event\, we do not censor songs that our patrons choose to sing and there might be music that is inappropriate for young children.&nbsp\;
LOCATION:Water Street Social Club
UID:e.1184.32878
SEQUENCE:3
DTSTAMP:20260419T164519Z
URL:http://members.saukprairie.com/events/details/karaoke-night-08-13-2024-32878
END:VEVENT

END:VCALENDAR
