BEGIN:VCALENDAR
VERSION:2.0
PRODID:-//ChamberMaster//Event Calendar 2.0//EN
METHOD:PUBLISH
X-PUBLISHED-TTL:P3D
REFRESH-INTERVAL:P3D
CALSCALE:GREGORIAN
BEGIN:VEVENT
DTSTART:20181201T160000Z
DTEND:20181201T200000Z
X-MICROSOFT-CDO-ALLDAYEVENT:FALSE
SUMMARY:Kat's Creations Open House & Inventory Reduction Sale!
DESCRIPTION:Kat's Creations\, a mating and framing business\, is having an inventory reduction sale beginning Saturday November 10th from 10am-2pm. This sale will continue every Saturday in November and December. Perfect sale for artists\, crafters\, hobbiers\, kids projects\, students and other creative minds. Everything reasonably priced. Items include but not limited to:\n\n-Frames\n\n-Prints\n\n-Original Artwork \n\n-Well Known Artist Prints \n\n-Mat Board \n\n-Foam Core\n\n-Poster Board\n\n-Glass (Stock and Custom Cuts)\n\n\n\nFor more information\, please check out our website and Facebook Page @\n\n\n\nhttps://katscreationsframe.com \n\n\n\nhttps://m.facebook.com/KatsCreations41
X-ALT-DESC;FMTTYPE=text/html:<span style="color: rgb(34\, 34\, 34)\; font-family: &quot\;Bitstream Vera Serif&quot\;\, &quot\;Times New Roman&quot\;\, serif\; font-size: medium\;">Kat's Creations\, a mating and framing business\, is having an inventory reduction sale beginning Saturday November 10th from 10am-2pm. This sale will continue every Saturday in November and December. Perfect sale for artists\, crafters\, hobbiers\, kids projects\, students and other creative minds. Everything reasonably priced. Items include but not limited to:</span><br style="color: rgb(34\, 34\, 34)\; font-family: &quot\;Bitstream Vera Serif&quot\;\, &quot\;Times New Roman&quot\;\, serif\; font-size: medium\;">\n<span style="color: rgb(34\, 34\, 34)\; font-family: &quot\;Bitstream Vera Serif&quot\;\, &quot\;Times New Roman&quot\;\, serif\; font-size: medium\;">-Frames</span><br style="color: rgb(34\, 34\, 34)\; font-family: &quot\;Bitstream Vera Serif&quot\;\, &quot\;Times New Roman&quot\;\, serif\; font-size: medium\;">\n<span style="color: rgb(34\, 34\, 34)\; font-family: &quot\;Bitstream Vera Serif&quot\;\, &quot\;Times New Roman&quot\;\, serif\; font-size: medium\;">-Prints</span><br style="color: rgb(34\, 34\, 34)\; font-family: &quot\;Bitstream Vera Serif&quot\;\, &quot\;Times New Roman&quot\;\, serif\; font-size: medium\;">\n<span style="color: rgb(34\, 34\, 34)\; font-family: &quot\;Bitstream Vera Serif&quot\;\, &quot\;Times New Roman&quot\;\, serif\; font-size: medium\;">-Original Artwork&nbsp\;</span><br style="color: rgb(34\, 34\, 34)\; font-family: &quot\;Bitstream Vera Serif&quot\;\, &quot\;Times New Roman&quot\;\, serif\; font-size: medium\;">\n<span style="color: rgb(34\, 34\, 34)\; font-family: &quot\;Bitstream Vera Serif&quot\;\, &quot\;Times New Roman&quot\;\, serif\; font-size: medium\;">-Well Known Artist Prints&nbsp\;</span><br style="color: rgb(34\, 34\, 34)\; font-family: &quot\;Bitstream Vera Serif&quot\;\, &quot\;Times New Roman&quot\;\, serif\; font-size: medium\;">\n<span style="color: rgb(34\, 34\, 34)\; font-family: &quot\;Bitstream Vera Serif&quot\;\, &quot\;Times New Roman&quot\;\, serif\; font-size: medium\;">-Mat Board&nbsp\;</span><br style="color: rgb(34\, 34\, 34)\; font-family: &quot\;Bitstream Vera Serif&quot\;\, &quot\;Times New Roman&quot\;\, serif\; font-size: medium\;">\n<span style="color: rgb(34\, 34\, 34)\; font-family: &quot\;Bitstream Vera Serif&quot\;\, &quot\;Times New Roman&quot\;\, serif\; font-size: medium\;">-Foam Core</span><br style="color: rgb(34\, 34\, 34)\; font-family: &quot\;Bitstream Vera Serif&quot\;\, &quot\;Times New Roman&quot\;\, serif\; font-size: medium\;">\n<span style="color: rgb(34\, 34\, 34)\; font-family: &quot\;Bitstream Vera Serif&quot\;\, &quot\;Times New Roman&quot\;\, serif\; font-size: medium\;">-Poster Board</span><br style="color: rgb(34\, 34\, 34)\; font-family: &quot\;Bitstream Vera Serif&quot\;\, &quot\;Times New Roman&quot\;\, serif\; font-size: medium\;">\n<span style="color: rgb(34\, 34\, 34)\; font-family: &quot\;Bitstream Vera Serif&quot\;\, &quot\;Times New Roman&quot\;\, serif\; font-size: medium\;">-Glass (Stock and Custom Cuts)</span><br style="color: rgb(34\, 34\, 34)\; font-family: &quot\;Bitstream Vera Serif&quot\;\, &quot\;Times New Roman&quot\;\, serif\; font-size: medium\;">\n<br style="color: rgb(34\, 34\, 34)\; font-family: &quot\;Bitstream Vera Serif&quot\;\, &quot\;Times New Roman&quot\;\, serif\; font-size: medium\;">\n<span style="color: rgb(34\, 34\, 34)\; font-family: &quot\;Bitstream Vera Serif&quot\;\, &quot\;Times New Roman&quot\;\, serif\; font-size: medium\;">For more information\, please check out our website and Facebook Page @</span><br style="color: rgb(34\, 34\, 34)\; font-family: &quot\;Bitstream Vera Serif&quot\;\, &quot\;Times New Roman&quot\;\, serif\; font-size: medium\;">\n<br style="color: rgb(34\, 34\, 34)\; font-family: &quot\;Bitstream Vera Serif&quot\;\, &quot\;Times New Roman&quot\;\, serif\; font-size: medium\;">\n<span style="color: rgb(34\, 34\, 34)\; font-family: &quot\;Bitstream Vera Serif&quot\;\, &quot\;Times New Roman&quot\;\, serif\; font-size: medium\;">https://katscreationsframe.com&nbsp\;</span><br style="color: rgb(34\, 34\, 34)\; font-family: &quot\;Bitstream Vera Serif&quot\;\, &quot\;Times New Roman&quot\;\, serif\; font-size: medium\;">\n<br style="color: rgb(34\, 34\, 34)\; font-family: &quot\;Bitstream Vera Serif&quot\;\, &quot\;Times New Roman&quot\;\, serif\; font-size: medium\;">\n<span style="color: rgb(34\, 34\, 34)\; font-family: &quot\;Bitstream Vera Serif&quot\;\, &quot\;Times New Roman&quot\;\, serif\; font-size: medium\;">https://m.facebook.com/KatsCreations41&nbsp\;</span>
LOCATION:Kat's Creations W14132 Theresa Lane Prairie du Sac
UID:e.1184.21491
SEQUENCE:3
DTSTAMP:20260424T022300Z
URL:http://members.saukprairie.com/events/details/kat-s-creations-open-house-inventory-reduction-sale-21491
END:VEVENT

END:VCALENDAR
