BEGIN:VCALENDAR
VERSION:2.0
PRODID:-//ChamberMaster//Event Calendar 2.0//EN
METHOD:PUBLISH
X-PUBLISHED-TTL:P3D
REFRESH-INTERVAL:P3D
CALSCALE:GREGORIAN
BEGIN:VEVENT
DTSTART:20210429T170000Z
DTEND:20210429T180000Z
X-MICROSOFT-CDO-ALLDAYEVENT:FALSE
SUMMARY:KEEPING KIDS & TEENS SAFE ONLINE
DESCRIPTION:KEEPING KIDS & TEENS SAFE ONLINE\n\nPRESENTED BY JESS LA BREC & JESS KAEHNY\n\n\n\nWHERE\n\nWebinar via ZOOM link\n\nFree of charge\n\n\n\nREGISTER HERE:\n\nhttps://www.surveymonkey.com/r/4-29-21Webinar\n\nIn honor of Child Abuse Prevention Month and Sexual Assault Awareness Month this April\, Hope House is hosting a webinar on keeping kids and teens safe online.\n\n\n\nGeared towards parents/guardians and those that work with youth\, this presentation is adapted from NetSmartz.org and will cover addressing inappropriate content\, online privacy\, sexting\, online enticement and grooming\, and cyberbullying. Presenters will also share resources and save time for Q&A.\n\n\n\nJess La Brec is a Sexual Assault Advocate at Hope House providing support and resources to survivors.\n\n\n\nJess Kaehny is the Community Education Program Manager at Hope House providing presentations to youth and adults.\n\n\n\nQUESTIONS:\n\nContact Deb at 608.356.9123 ext. 120 or debb@hopehousescw.org
X-ALT-DESC;FMTTYPE=text/html:KEEPING KIDS &amp\; TEENS SAFE ONLINE<br />\nPRESENTED BY JESS LA BREC &amp\; JESS KAEHNY<br />\n<br />\nWHERE<br />\nWebinar via ZOOM link<br />\nFree of charge<br />\n<br />\nREGISTER HERE:<br />\nhttps://www.surveymonkey.com/r/4-29-21Webinar<br />\nIn honor of Child Abuse Prevention Month and Sexual Assault Awareness Month this April\, Hope House is hosting a webinar on keeping kids and teens safe online.<br />\n<br />\nGeared towards parents/guardians and those that work with youth\, this presentation is adapted from NetSmartz.org and will cover addressing inappropriate content\, online privacy\, sexting\, online enticement and grooming\, and cyberbullying. Presenters will also share resources and save time for Q&amp\;A.<br />\n<br />\nJess La Brec is a Sexual Assault Advocate at Hope House providing support and resources to survivors.<br />\n<br />\nJess Kaehny is the Community Education Program Manager at Hope House providing presentations to youth and adults.<br />\n<br />\nQUESTIONS:<br />\nContact Deb at 608.356.9123 ext. 120 or debb@hopehousescw.org
LOCATION:
UID:e.1184.26574
SEQUENCE:3
DTSTAMP:20260422T063545Z
URL:http://members.saukprairie.com/events/details/keeping-kids-teens-safe-online-26574
END:VEVENT

END:VCALENDAR
