BEGIN:VCALENDAR
VERSION:2.0
PRODID:-//ChamberMaster//Event Calendar 2.0//EN
METHOD:PUBLISH
X-PUBLISHED-TTL:P3D
REFRESH-INTERVAL:P3D
CALSCALE:GREGORIAN
BEGIN:VEVENT
DTSTART:20190818T010000Z
DTEND:20190818T040000Z
X-MICROSOFT-CDO-ALLDAYEVENT:FALSE
SUMMARY:Kevin Troestler at Village Pub
DESCRIPTION:It's been a while since I've been home!\n\nCome hangout at Village Pub and hear some tunes I've written over the years I've been gone in good ol' Stevens Point\, WI. It's been a great journey and it doesn't stop here. I'm excited to be back and hope to see some familiar faces!
X-ALT-DESC;FMTTYPE=text/html:<span style="color: rgb(29\, 33\, 41)\; font-family: Helvetica\, Arial\, sans-serif\; font-size: 14px\; white-space: pre-wrap\;">It&rsquo\;s been a while since I&rsquo\;ve been home!</span><br style="color: rgb(29\, 33\, 41)\; font-family: Helvetica\, Arial\, sans-serif\; font-size: 14px\; white-space: pre-wrap\;" />\n<span style="color: rgb(29\, 33\, 41)\; font-family: Helvetica\, Arial\, sans-serif\; font-size: 14px\; white-space: pre-wrap\;">Come hangout at Village Pub and hear some tunes I&rsquo\;ve written over the years I&rsquo\;ve been gone in good ol&rsquo\; Stevens Point\, WI. It&rsquo\;s been a great journey and it doesn&rsquo\;t stop here. I&rsquo\;m excited to be back and hope to see some familiar faces! </span>
LOCATION:Village Pub 101 Jackson St. Sauk City
UID:e.1184.22709
SEQUENCE:3
DTSTAMP:20260423T125435Z
URL:http://members.saukprairie.com/events/details/kevin-troestler-at-village-pub-22709
END:VEVENT

END:VCALENDAR
