BEGIN:VCALENDAR
VERSION:2.0
PRODID:-//ChamberMaster//Event Calendar 2.0//EN
METHOD:PUBLISH
X-PUBLISHED-TTL:P3D
REFRESH-INTERVAL:P3D
CALSCALE:GREGORIAN
BEGIN:VEVENT
DTSTART:20180718T180000Z
DTEND:20180718T190000Z
X-MICROSOFT-CDO-ALLDAYEVENT:FALSE
SUMMARY:Kid Tech Day
DESCRIPTION:Turn a regular item into a rocking instrument.\n\n\n\nExplore circuits using our Makey-Makey kits and see where your imagination leads you.
X-ALT-DESC;FMTTYPE=text/html:Turn a regular item into a rocking instrument.<br />\n<br />\nExplore circuits using our Makey-Makey kits and see where your imagination leads you.
LOCATION:515 Water St Sauk City\, WI 53583
UID:e.1184.19394
SEQUENCE:3
DTSTAMP:20260424T081205Z
URL:http://members.saukprairie.com/events/details/kid-tech-day-19394
END:VEVENT

END:VCALENDAR
