BEGIN:VCALENDAR
VERSION:2.0
PRODID:-//ChamberMaster//Event Calendar 2.0//EN
METHOD:PUBLISH
X-PUBLISHED-TTL:P3D
REFRESH-INTERVAL:P3D
CALSCALE:GREGORIAN
BEGIN:VEVENT
DTSTART:20190621T180000Z
DTEND:20190621T190000Z
X-MICROSOFT-CDO-ALLDAYEVENT:FALSE
SUMMARY:Kids Art Studio
DESCRIPTION:Stop by the library during the art studio to create some out-of-this-world art at one of our art stations. Children under 6 must be accompanied.
X-ALT-DESC;FMTTYPE=text/html:Stop by the library during the art studio to create some out-of-this-world art at one of our art stations. Children under 6 must be accompanied.&nbsp\;
LOCATION:515 Water Street Sauk City\, WI 53583
UID:e.1184.22431
SEQUENCE:3
DTSTAMP:20260423T153342Z
URL:http://members.saukprairie.com/events/details/kids-art-studio-06-21-2019-22431
END:VEVENT

END:VCALENDAR
