BEGIN:VCALENDAR
VERSION:2.0
PRODID:-//ChamberMaster//Event Calendar 2.0//EN
METHOD:PUBLISH
X-PUBLISHED-TTL:P3D
REFRESH-INTERVAL:P3D
CALSCALE:GREGORIAN
BEGIN:VEVENT
DTSTART:20190325T180000Z
DTEND:20190325T210000Z
X-MICROSOFT-CDO-ALLDAYEVENT:FALSE
SUMMARY:Kids Art Studio
DESCRIPTION:Children will receive a canvas to create a unique masterpiece! Adults must accompany children under 6. There will be two sessions. The first session is at 1:00 pm and the second session is at 3:00 pm. Space is limited so sign up for a session at the library or by calling 608-643-8346.
X-ALT-DESC;FMTTYPE=text/html:<span style="font-family:arial\; font-size:11pt">Children will receive a canvas to create a unique masterpiece! Adults must accompany children under 6. There will be two sessions. The first session is at 1:00 pm and the second session is at 3:00 pm. Space is limited so sign up for a session at the library or by calling 608-643-8346.</span>
LOCATION:515 Water Street Sauk City\, WI
UID:e.1184.22060
SEQUENCE:3
DTSTAMP:20260423T201418Z
URL:http://members.saukprairie.com/events/details/kids-art-studio-22060
END:VEVENT

END:VCALENDAR
