BEGIN:VCALENDAR
VERSION:2.0
PRODID:-//ChamberMaster//Event Calendar 2.0//EN
METHOD:PUBLISH
X-PUBLISHED-TTL:P3D
REFRESH-INTERVAL:P3D
CALSCALE:GREGORIAN
BEGIN:VEVENT
DTSTART:20181015T203000Z
DTEND:20181015T213000Z
X-MICROSOFT-CDO-ALLDAYEVENT:FALSE
SUMMARY:Kids Cooking Club
DESCRIPTION:Once a month kids ages 7-12 can visit the library and learn how to make some tasty no-bake treats. Call or vist the library to sign up.
X-ALT-DESC;FMTTYPE=text/html:Once a month kids ages 7-12 can visit the library and learn how to make some tasty no-bake treats. Call or vist the library to sign up.
LOCATION:Sauk City Public Library 515 Water St. Sauk City
UID:e.1184.21390
SEQUENCE:3
DTSTAMP:20260424T034229Z
URL:http://members.saukprairie.com/events/details/kids-cooking-club-10-15-2018-21390
END:VEVENT

END:VCALENDAR
