BEGIN:VCALENDAR
VERSION:2.0
PRODID:-//ChamberMaster//Event Calendar 2.0//EN
METHOD:PUBLISH
X-PUBLISHED-TTL:P3D
REFRESH-INTERVAL:P3D
CALSCALE:GREGORIAN
BEGIN:VEVENT
DTSTART:20230910T160000Z
DTEND:20230910T200000Z
X-MICROSOFT-CDO-ALLDAYEVENT:FALSE
SUMMARY:Kids Ranch 25th Anniversary
DESCRIPTION:For 25 years Kids Ranch has been serving the children of the Sauk Prairie School District and we're celebrating this great partnership with an open house and recognition ceremony. Everyone is welcome\, but we especially want to invite all our students\, parents\, volunteers and especially our great tutors to join us.
X-ALT-DESC;FMTTYPE=text/html:For 25 years Kids Ranch has been serving the children of the Sauk Prairie School District and we&#39\;re celebrating this great partnership with an open house and recognition ceremony. Everyone is welcome\, but we especially want to invite all our students\, parents\, volunteers and especially our great tutors to join us.
LOCATION:Kids Ranch S4800 Hwy D Rock Springs\, WI
UID:e.1184.30724
SEQUENCE:3
DTSTAMP:20260420T074726Z
URL:http://members.saukprairie.com/events/details/kids-ranch-25th-anniversary-30724
END:VEVENT

END:VCALENDAR
