BEGIN:VCALENDAR
VERSION:2.0
PRODID:-//ChamberMaster//Event Calendar 2.0//EN
METHOD:PUBLISH
X-PUBLISHED-TTL:P3D
REFRESH-INTERVAL:P3D
CALSCALE:GREGORIAN
BEGIN:VEVENT
DTSTART:20190419T150000Z
DTEND:20190419T170000Z
X-MICROSOFT-CDO-ALLDAYEVENT:FALSE
SUMMARY:Kids Stepping Stone Workshop
DESCRIPTION:Celebrate Earth Day at the library! Join us for a fun and interactive morning where kids will get an opportunity to create and personalize their own stepping stone. Adults must accompany children under 6. Sign up today at the checkout counter or by calling the library at 608-643-8346.
X-ALT-DESC;FMTTYPE=text/html:<p><span style="background-color:transparent\; color:rgb(0\, 0\, 0)\; font-family:arial\; font-size:11pt">Celebrate Earth Day at the library! Join us for a fun and interactive morning where kids will get an opportunity to create and personalize their own stepping stone. Adults must accompany children under 6. Sign up today at the checkout counter or by calling the library at 608-643-8346.</span></p>\n
LOCATION:Sauk City Library 515 Water Street Sauk City\, WI 53583
UID:e.1184.22143
SEQUENCE:3
DTSTAMP:20260423T184709Z
URL:http://members.saukprairie.com/events/details/kids-stepping-stone-workshop-22143
END:VEVENT

END:VCALENDAR
