BEGIN:VCALENDAR
VERSION:2.0
PRODID:-//ChamberMaster//Event Calendar 2.0//EN
METHOD:PUBLISH
X-PUBLISHED-TTL:P3D
REFRESH-INTERVAL:P3D
CALSCALE:GREGORIAN
BEGIN:VEVENT
DTSTART:20190619T180000Z
DTEND:20190619T190000Z
X-MICROSOFT-CDO-ALLDAYEVENT:FALSE
SUMMARY:Kids Yoga
DESCRIPTION:A Prairie Fire Yoga instructor will teach a free children's yoga class at the library. This class will give kids a safe environment to play\, explore and experience the wonderful benefits of yoga. For ages 8 and up and parents or guardians will need to sign a waiver.
X-ALT-DESC;FMTTYPE=text/html:A Prairie Fire Yoga instructor will teach a free children&rsquo\;s yoga class at the library. This class will give kids a safe environment to play\, explore and experience the wonderful benefits of yoga. For ages 8 and up and parents or guardians will need to sign a waiver.
LOCATION:515 Water St. Sauk City\, WI 53583
UID:e.1184.22376
SEQUENCE:3
DTSTAMP:20260423T171735Z
URL:http://members.saukprairie.com/events/details/kids-yoga-22376
END:VEVENT

END:VCALENDAR
