BEGIN:VCALENDAR
VERSION:2.0
PRODID:-//ChamberMaster//Event Calendar 2.0//EN
METHOD:PUBLISH
X-PUBLISHED-TTL:P3D
REFRESH-INTERVAL:P3D
CALSCALE:GREGORIAN
BEGIN:VEVENT
DTSTART:20191112T220000Z
DTEND:20191112T230000Z
X-MICROSOFT-CDO-ALLDAYEVENT:FALSE
SUMMARY:Kids Yoga Calm
DESCRIPTION:Help your child develop healthy habits for a lifetime of wellness and happiness! Yoga Calm gives children a practice and routine that integrates physical\, mental\, and emotional development. Skills and activities covered include: \n\n  Simple breathing techniques to slow down the nervous system\, develop self-control and connect children with their feelings \n\n  Yoga poses to release energy\, learn compassion\, and develop strength\, concentration\, and self-confidence \n\n  Counseling games and process that develop patience\, mindfulness\, compassion\, leadership\, and other social/emotional skills \n\n  Relaxation techniques and storytelling to calm the body and mind\, and integrate physical\, emotional and cognitive experiences.\n\n \n\nThis class is open to K - 3rd grade and is beneficial for all children\, including those with attention and social difficulties. Through this yoga practice\, your child will develop more personal awareness and learn specific strategies to maintain focus and manage their emotions and impulses. Over time\, these skills and practices develop greater health\, self-mastery and well-being.\n\nYoga Calm  for Kids With Becky Wundram\, M.S.
X-ALT-DESC;FMTTYPE=text/html:<div><span style="font-family:inherit\; font-size:14px">Help your child develop healthy habits for a lifetime of wellness and happiness! Yoga Calm gives children a practice and routine that integrates physical\, mental\, and emotional development. Skills and activities covered include:&nbsp\;</span></div>\n\n<div><span style="font-family:inherit\; font-size:14px">&bull\; Simple breathing techniques to slow down the nervous system\, develop self-control and connect children with their feelings&nbsp\;</span></div>\n\n<div><span style="font-family:inherit\; font-size:14px">&bull\; Yoga poses to release energy\, learn compassion\, and develop strength\, concentration\, and self-confidence&nbsp\;</span></div>\n\n<div><span style="font-family:inherit\; font-size:14px">&bull\; Counseling games and process that develop patience\, mindfulness\, compassion\, leadership\, and other social/emotional skills&nbsp\;</span></div>\n\n<div><span style="font-family:inherit\; font-size:14px">&bull\; Relaxation techniques and storytelling to calm the body and mind\, and integrate physical\, emotional and cognitive experiences.</span></div>\n\n<div>&nbsp\;</div>\n\n<div><span style="font-family:inherit\; font-size:14px">This class is open to K - 3rd grade and is beneficial for all children\, including those with attention and social difficulties. Through this yoga practice\, your child will develop more personal awareness and learn specific strategies to maintain focus and manage their emotions and impulses. Over time\, these skills and practices develop greater health\, self-mastery and well-being.</span><br />\n<span style="font-family:inherit\; font-size:14px">Yoga Calm&reg\; for Kids With Becky Wundram\, M.S.</span></div>\n\n<p>&nbsp\;</p>\n\n<p>&nbsp\;</p>\n\n<p><span style="font-family:inherit">&nbsp\;</span></p>\n
LOCATION:Prairie Fire Yoga 560 Park Ave Prairie du Sac\, WI 53578
UID:e.1184.23659
SEQUENCE:3
DTSTAMP:20260423T083649Z
URL:http://members.saukprairie.com/events/details/kids-yoga-calm-11-12-2019-23659
END:VEVENT

END:VCALENDAR
