BEGIN:VCALENDAR
VERSION:2.0
PRODID:-//ChamberMaster//Event Calendar 2.0//EN
METHOD:PUBLISH
X-PUBLISHED-TTL:P3D
REFRESH-INTERVAL:P3D
CALSCALE:GREGORIAN
BEGIN:VEVENT
DTSTART:20190912T230000Z
DTEND:20190913T030000Z
X-MICROSOFT-CDO-ALLDAYEVENT:FALSE
SUMMARY:"King Sies Fries" at The Old Schoolhouse! Live Music on the Deck every Thursday! No Cover charge!
DESCRIPTION:Come check out King Sies Fries! Talented Singer/Songwriter duo!\n\n\n\nDrink Specials\, great tap beer selection\, homemade deep dish pizza served until 10pm!
X-ALT-DESC;FMTTYPE=text/html:Come check out King Sies Fries! Talented Singer/Songwriter duo!<br />\n<br />\nDrink Specials\, great tap beer selection\, homemade deep dish pizza served until 10pm!
LOCATION:The Old Schoolhouse E13887 Cty Rd DL Merrimac\, WI 53561
UID:e.1184.23132
SEQUENCE:3
DTSTAMP:20260423T114029Z
URL:http://members.saukprairie.com/events/details/king-sies-fries-at-the-old-schoolhouse-live-music-on-the-deck-every-thursday-no-cover-charge-23132
END:VEVENT

END:VCALENDAR
