BEGIN:VCALENDAR
VERSION:2.0
PRODID:-//ChamberMaster//Event Calendar 2.0//EN
METHOD:PUBLISH
X-PUBLISHED-TTL:P3D
REFRESH-INTERVAL:P3D
CALSCALE:GREGORIAN
BEGIN:VEVENT
DTSTART:20221113T170000Z
DTEND:20221113T190000Z
X-MICROSOFT-CDO-ALLDAYEVENT:FALSE
SUMMARY:Knights of Columbus Council Pork Chop Dinner
DESCRIPTION:Knights of Columbus Council 3099 from St. Al's (Sauk City) and St. Norbert's (Roxbury) will be having their Annual Pork Chop Dinner on Sunday November 13th from 11am to 1pm at St. Norbert's Church Hall (8944 Hwy Y Roxbury). Drive Through and Delivery ONLY!! NO DINE IN\n\n \n\nDrive Through Dinners are $15.00.  Dinner includes grilled pork chop\, applesauce\, green bean casserole\, baked potato\, dinner roll and a dessert. MUST place your carry out or delivery pre-orders on-line at:\n\nhttps://www.divinemercy-parish.org/events-1/knights-of-columbus-annual-pork-chop-dinner\n\n or by calling in your pre-order to Eric or Russ\; pre-orders must be received by November 7th.\n\n \n\n \n\nQuestions and pre-orders please contact Russ Ballweg at 608-963-6254.
X-ALT-DESC;FMTTYPE=text/html:<span style="font-family:times new roman\,serif\;"><span style="font-size:20.0pt\;">Knights of Columbus Council 3099 from St. Al&#39\;s (Sauk City) and St. Norbert&#39\;s (Roxbury) will be having their Annual Pork Chop Dinner on Sunday November 13th from 11am to 1pm at St. Norbert&#39\;s Church Hall (8944 Hwy Y Roxbury). <strong>Drive Through and Delivery ONLY!!</strong></span></span><strong><u><span style="font-family:times new roman\,serif\;"><span style="font-size:22.0pt\;"> NO DINE IN</span></span></u></strong><br />\n&nbsp\;<br />\n<strong><span style="font-family:times new roman\,serif\;"><span style="font-size:20.0pt\;">Drive Through Dinners</span></span></strong><span style="font-family:times new roman\,serif\;"><span style="font-size:20.0pt\;"> are $15.00.&nbsp\; Dinner includes grilled pork chop\, applesauce\, green bean casserole\, baked potato\, dinner roll and a dessert. <a name="m_8821917623469931932_m_-393024703037399">MUST place your carry out or delivery pre-orders on-line at:</a></span></span><br />\n<span style="font-family:times new roman\,serif\;"><span style="font-size:12.0pt\;"><a href="https://www.divinemercy-parish.org/events-1/knights-of-columbus-annual-pork-chop-dinner" target="_blank"><span style="color:#1155CC\;"><span style="font-family:arial\,sans-serif\;">https://www.divinemercy-parish.org/events-1/knights-of-columbus-annual-pork-chop-dinner</span></span></a></span></span><br />\n<span style="font-family:times new roman\,serif\;"><span style="font-size:20.0pt\;">&nbsp\;or by calling in your pre-order to Eric or Russ\; pre-orders must be received by November 7th.</span></span><br />\n&nbsp\;<br />\n&nbsp\;<br />\n<span style="color:black\;"><span style="font-family:times new roman\,serif\;"><span style="font-size:20.0pt\;">Questions and pre-orders please contact Russ Ballweg at 608-963-6254.&nbsp\;</span></span></span>
LOCATION:Pick-up at St. Norbert Church 8944 County Hwy Y Sauk City\, WI 53583
UID:e.1184.28777
SEQUENCE:3
DTSTAMP:20260421T021427Z
URL:http://members.saukprairie.com/events/details/knights-of-columbus-council-pork-chop-dinner-28777
END:VEVENT

END:VCALENDAR
