BEGIN:VCALENDAR
VERSION:2.0
PRODID:-//ChamberMaster//Event Calendar 2.0//EN
METHOD:PUBLISH
X-PUBLISHED-TTL:P3D
REFRESH-INTERVAL:P3D
CALSCALE:GREGORIAN
BEGIN:VEVENT
DTSTART;VALUE=DATE:20240204
DTEND;VALUE=DATE:20240205
TRANSP:TRANSPARENT
X-MICROSOFT-CDO-ALLDAYEVENT:TRUE
SUMMARY:Knights of Columbus Free Throw Contest
DESCRIPTION:The Knights of Columbus Council 3099 is hosting their annual Free Throw Contest on Sunday\, February 4 at Bridges Elementary School in Prairie du Sac. The contest is open to ALL boys and girls ages 9-14 (ages determined as of January 1). Registration will start at 11:15 a.m. and the contest is set to begin at noon. Please contact Shane Frey (608-370-2923) with any questions.
X-ALT-DESC;FMTTYPE=text/html:The Knights of Columbus Council 3099 is hosting their annual Free Throw Contest on Sunday\, February 4 at Bridges Elementary School in Prairie du Sac. The contest is open to ALL boys and girls ages 9-14 (ages determined as of January 1). Registration will start at 11:15 a.m. and the contest is set to begin at noon. Please contact Shane Frey (608-370-2923) with any questions.
LOCATION:Bridges Elementary School 1200 Broadway St. Prairie du Sac\, WI 53578
UID:e.1184.31481
SEQUENCE:3
DTSTAMP:20260420T003756Z
URL:http://members.saukprairie.com/events/details/knights-of-columbus-free-throw-contest-31481
END:VEVENT

END:VCALENDAR
