BEGIN:VCALENDAR
VERSION:2.0
PRODID:-//ChamberMaster//Event Calendar 2.0//EN
METHOD:PUBLISH
X-PUBLISHED-TTL:P3D
REFRESH-INTERVAL:P3D
CALSCALE:GREGORIAN
BEGIN:VEVENT
DTSTART;VALUE=DATE:20181226
DTEND;VALUE=DATE:20181227
TRANSP:TRANSPARENT
X-MICROSOFT-CDO-ALLDAYEVENT:TRUE
SUMMARY:Knitting at the Blue Spoon
DESCRIPTION:Knitting at The Blue Spoon in the River Room\n\nJoin us for food\, wine\, and friends. \n\nThe last Wednesday of every month at Blue Spoon Cafe \n\n550 Water St Prairie Du Sac\n\nAll knitters/crocheters/crafters welcome! \n\nHosted by your local knitting friends. No RSVP required\, just show up!
X-ALT-DESC;FMTTYPE=text/html:<div style="box-sizing: border-box\; color: rgb(106\, 126\, 88)\; font-family: Share\, serif\; font-size: 20px\; text-align: center\; background-color: rgb(188\, 226\, 154)\;"><span style="box-sizing: border-box\; font-weight: bold\;"><font color="#295218" style="box-sizing: border-box\;">Knitting at The Blue Spoon in the River Room</font></span></div>\n\n<div style="box-sizing: border-box\; color: rgb(106\, 126\, 88)\; font-family: Share\, serif\; font-size: 20px\; text-align: center\; background-color: rgb(188\, 226\, 154)\;"><span style="box-sizing: border-box\; font-weight: bold\;"><font color="#295218" style="box-sizing: border-box\;">Join us for food\, wine\, and friends.&nbsp\;</font></span></div>\n\n<div style="box-sizing: border-box\; color: rgb(106\, 126\, 88)\; font-family: Share\, serif\; font-size: 20px\; text-align: center\; background-color: rgb(188\, 226\, 154)\;"><span style="box-sizing: border-box\; font-weight: bold\;"><font color="#295218" style="box-sizing: border-box\;">The last Wednesday of every month at Blue Spoon Cafe&nbsp\;</font></span></div>\n\n<div style="box-sizing: border-box\; color: rgb(106\, 126\, 88)\; font-family: Share\, serif\; font-size: 20px\; text-align: center\; background-color: rgb(188\, 226\, 154)\;"><span style="box-sizing: border-box\; color: rgb(41\, 82\, 24)\; font-weight: bold\; text-size-adjust: 100%\;">550 Water St Prairie Du Sac</span></div>\n\n<div style="box-sizing: border-box\; color: rgb(106\, 126\, 88)\; font-family: Share\, serif\; font-size: 20px\; text-align: center\; background-color: rgb(188\, 226\, 154)\;"><span style="box-sizing: border-box\; color: rgb(41\, 82\, 24)\; font-weight: bold\; text-size-adjust: 100%\;">All knitters/crocheters/crafters welcome!&nbsp\;</span></div>\n\n<div style="box-sizing: border-box\; color: rgb(106\, 126\, 88)\; font-family: Share\, serif\; font-size: 20px\; text-align: center\; background-color: rgb(188\, 226\, 154)\;"><span style="box-sizing: border-box\; color: rgb(41\, 82\, 24)\; font-weight: bold\; text-size-adjust: 100%\;">Hosted by your local knitting friends. No RSVP required\, just show up!&nbsp\;&nbsp\;</span></div>\n
LOCATION:
UID:e.1184.20486
SEQUENCE:3
DTSTAMP:20260424T021257Z
URL:http://members.saukprairie.com/events/details/knitting-at-the-blue-spoon-12-26-2018-20486
END:VEVENT

END:VCALENDAR
