BEGIN:VCALENDAR
VERSION:2.0
PRODID:-//ChamberMaster//Event Calendar 2.0//EN
METHOD:PUBLISH
X-PUBLISHED-TTL:P3D
REFRESH-INTERVAL:P3D
CALSCALE:GREGORIAN
BEGIN:VEVENT
DTSTART:20180209T020000Z
DTEND:20180209T040000Z
X-MICROSOFT-CDO-ALLDAYEVENT:FALSE
SUMMARY:Kurt & Jake at Vintage Brewing Co. Sauk Prairie
DESCRIPTION:Kurt from The Rodeo Bums and Jake from Emerald Grove! These guys are so awesome together\, you don't want to miss this one!
X-ALT-DESC;FMTTYPE=text/html:<span style="color: rgb(75\, 79\, 86)\; font-family: Helvetica\, Arial\, sans-serif\; font-size: 14px\;">Kurt from The Rodeo Bums and Jake from Emerald Grove! These guys are so awesome together\, you don&#39\;t want to miss this one!</span>
LOCATION:Vintage Brewing Co. Sauk Prairie 600 Water Street Sauk City\, WI 53583
UID:e.1184.14671
SEQUENCE:3
DTSTAMP:20260424T162011Z
URL:http://members.saukprairie.com/events/details/kurt-jake-at-vintage-brewing-co-sauk-prairie-14671
END:VEVENT

END:VCALENDAR
