BEGIN:VCALENDAR
VERSION:2.0
PRODID:-//ChamberMaster//Event Calendar 2.0//EN
METHOD:PUBLISH
X-PUBLISHED-TTL:P3D
REFRESH-INTERVAL:P3D
CALSCALE:GREGORIAN
BEGIN:VEVENT
DTSTART:20161028T000000Z
DTEND:20161028T020000Z
X-MICROSOFT-CDO-ALLDAYEVENT:FALSE
SUMMARY:Kurt & Jake at Woodshed Ale House
DESCRIPTION:Join the Woodshed Ale House for a special performance by Kurt from the Rodeo Bums and Jake from Emerald Grove.
X-ALT-DESC;FMTTYPE=text/html:Join the Woodshed Ale House for a special performance by Kurt from the Rodeo Bums and Jake from Emerald Grove.
LOCATION:Woodshed Ale House 101 Jackson Street Sauk City\, WI 53583
UID:e.1184.9411
SEQUENCE:3
DTSTAMP:20260425T174231Z
URL:http://members.saukprairie.com/events/details/kurt-jake-at-woodshed-ale-house-9411
END:VEVENT

END:VCALENDAR
