BEGIN:VCALENDAR
VERSION:2.0
PRODID:-//ChamberMaster//Event Calendar 2.0//EN
METHOD:PUBLISH
X-PUBLISHED-TTL:P3D
REFRESH-INTERVAL:P3D
CALSCALE:GREGORIAN
BEGIN:VEVENT
DTSTART:20221209T000000Z
DTEND:20221209T020000Z
X-MICROSOFT-CDO-ALLDAYEVENT:FALSE
SUMMARY:Ladies Night at McFarlanes'
DESCRIPTION:Come shop local with McFarlanes' Retail Service Center and other local vendors - OPEN TO THE COMMUNITY - No purchase necessary. There will be an Ugly Sweater Contest\, snacks and punch for everyone and a Ladies Night Special at McFarlanes' - 20% Off and 10% Off Clearance (*some exclusions may apply).\n\nRSVP's participants will receive ($20):\n\nA Goodie Bag\n\n\n	2  Wine Tickets\n	$ 10 Chuck Bucks (money to spend at McFarlanes')\n	E ntry for Door Prize - Weber Grill Value $400\n	I tems from the Local Vendors\n	F irst 70 people to register\n\n\nA dditional Ticket for DIY Gnome ($45)\n\n\n	P rovided by Rainbow Floral\n	F irst 10 people to register\n	Fresh cut Evergreens\, gloves\, mittens\, hat\, nose and tomato cage all included\n\n\nL ocal Vendors:\n\n\n	R iver Arts Inc.\n	C ountry Sass\n	G litter Girl Gems\n	L ight of Love\n	W illow & Ivy Boutique\n	E lite Waxing Studio\n\n\n\nClick here to get your tickets!
X-ALT-DESC;FMTTYPE=text/html:<p style="margin: 0px\; padding: 0px\; box-sizing: border-box\; color: rgb(111\, 114\, 135)\; font-size: 16px\; line-height: 1.5rem\; font-family: &quot\;Neue Plak&quot\;\, -apple-system\, BlinkMacSystemFont\, Roboto\, &quot\;Helvetica Neue&quot\;\, Helvetica\, Tahoma\, Arial\, sans-serif\;">Come shop local with McFarlanes&#39\; Retail Service Center and other local vendors - OPEN TO THE COMMUNITY - No purchase necessary. There will be an Ugly Sweater Contest\, snacks and punch for everyone and a Ladies Night Special at McFarlanes&#39\; - 20% Off and 10% Off Clearance (*some exclusions may apply).</p>\n\n<p style="margin: 0px\; padding: 10px 0px 0px\; box-sizing: border-box\; color: rgb(111\, 114\, 135)\; font-size: 16px\; line-height: 1.5rem\; font-family: &quot\;Neue Plak&quot\;\, -apple-system\, BlinkMacSystemFont\, Roboto\, &quot\;Helvetica Neue&quot\;\, Helvetica\, Tahoma\, Arial\, sans-serif\;">RSVP&#39\;s participants will receive (<span style="font-weight: 700\; box-sizing: border-box\; padding-top: 0px\;">$20</span>):</p>\n\n<p style="margin: 0px\; padding: 10px 0px 0px\; box-sizing: border-box\; color: rgb(111\, 114\, 135)\; font-size: 16px\; line-height: 1.5rem\; font-family: &quot\;Neue Plak&quot\;\, -apple-system\, BlinkMacSystemFont\, Roboto\, &quot\;Helvetica Neue&quot\;\, Helvetica\, Tahoma\, Arial\, sans-serif\;">A Goodie Bag</p>\n\n<ul style="margin: 0px\; padding-top: 10px\; padding-right: 0px\; padding-left: 2em\; list-style-position: initial\; list-style-image: initial\; box-sizing: border-box\; color: rgb(111\, 114\, 135)\; font-size: 16px\; line-height: 1.5rem\; font-family: &quot\;Neue Plak&quot\;\, -apple-system\, BlinkMacSystemFont\, Roboto\, &quot\;Helvetica Neue&quot\;\, Helvetica\, Tahoma\, Arial\, sans-serif\;">\n	<li style="margin: 0px\; padding: 0px\; box-sizing: border-box\;">2&#65279\; Wine Tickets</li>\n	<li style="margin: 0px\; padding: 5px 0px 0px\; box-sizing: border-box\;">$&#65279\;10 Chuck Bucks (money to spend at McFarlanes&#39\;)</li>\n	<li style="margin: 0px\; padding: 5px 0px 0px\; box-sizing: border-box\;">E&#65279\;ntry for Door Prize -&nbsp\;<span style="font-weight: 700\; box-sizing: border-box\; padding-top: 0px\;">Weber Grill Value $400</span></li>\n	<li style="margin: 0px\; padding: 5px 0px 0px\; box-sizing: border-box\;">I&#65279\;tems from the Local Vendors</li>\n	<li style="margin: 0px\; padding: 5px 0px 0px\; box-sizing: border-box\;">F&#65279\;irst 70 people to register</li>\n</ul>\n\n<p style="margin: 0px\; padding: 10px 0px 0px\; box-sizing: border-box\; color: rgb(111\, 114\, 135)\; font-size: 16px\; line-height: 1.5rem\; font-family: &quot\;Neue Plak&quot\;\, -apple-system\, BlinkMacSystemFont\, Roboto\, &quot\;Helvetica Neue&quot\;\, Helvetica\, Tahoma\, Arial\, sans-serif\;">A&#65279\;dditional Ticket for DIY Gnome (<span style="font-weight: 700\; box-sizing: border-box\; padding-top: 0px\;">$45</span>)</p>\n\n<ul style="margin: 0px\; padding-top: 10px\; padding-right: 0px\; padding-left: 2em\; list-style-position: initial\; list-style-image: initial\; box-sizing: border-box\; color: rgb(111\, 114\, 135)\; font-size: 16px\; line-height: 1.5rem\; font-family: &quot\;Neue Plak&quot\;\, -apple-system\, BlinkMacSystemFont\, Roboto\, &quot\;Helvetica Neue&quot\;\, Helvetica\, Tahoma\, Arial\, sans-serif\;">\n	<li style="margin: 0px\; padding: 0px\; box-sizing: border-box\;">P&#65279\;rovided by Rainbow Floral</li>\n	<li style="margin: 0px\; padding: 5px 0px 0px\; box-sizing: border-box\;">F&#65279\;irst 10 people to register</li>\n	<li style="margin: 0px\; padding: 5px 0px 0px\; box-sizing: border-box\;">Fresh cut Evergreens\, gloves\, mittens\, hat\, nose and tomato cage all included</li>\n</ul>\n\n<p style="margin: 0px\; padding: 10px 0px 0px\; box-sizing: border-box\; color: rgb(111\, 114\, 135)\; font-size: 16px\; line-height: 1.5rem\; font-family: &quot\;Neue Plak&quot\;\, -apple-system\, BlinkMacSystemFont\, Roboto\, &quot\;Helvetica Neue&quot\;\, Helvetica\, Tahoma\, Arial\, sans-serif\;">L&#65279\;ocal Vendors:</p>\n\n<ul style="margin: 0px\; padding-top: 10px\; padding-right: 0px\; padding-left: 2em\; list-style-position: initial\; list-style-image: initial\; box-sizing: border-box\; color: rgb(111\, 114\, 135)\; font-size: 16px\; line-height: 1.5rem\; font-family: &quot\;Neue Plak&quot\;\, -apple-system\, BlinkMacSystemFont\, Roboto\, &quot\;Helvetica Neue&quot\;\, Helvetica\, Tahoma\, Arial\, sans-serif\;">\n	<li style="margin: 0px\; padding: 0px\; box-sizing: border-box\;">R&#65279\;iver Arts Inc.</li>\n	<li style="margin: 0px\; padding: 5px 0px 0px\; box-sizing: border-box\;">C&#65279\;ountry Sass</li>\n	<li style="margin: 0px\; padding: 5px 0px 0px\; box-sizing: border-box\;">G&#65279\;litter Girl Gems</li>\n	<li style="margin: 0px\; padding: 5px 0px 0px\; box-sizing: border-box\;">L&#65279\;ight of Love</li>\n	<li style="margin: 0px\; padding: 5px 0px 0px\; box-sizing: border-box\;">W&#65279\;illow &amp\; Ivy Boutique</li>\n	<li style="margin: 0px\; padding: 5px 0px 0px\; box-sizing: border-box\;">E&#65279\;lite Waxing Studio</li>\n</ul>\n<br />\n<strong><span style="font-size:18px\;"><a href="https://www.eventbrite.com/e/ladies-night-at-mcfarlanes-tickets-472866445267">Click here to get your tickets!</a></span></strong>
LOCATION:McFarlanes' Retail & Service Center 780 Carolina Street Sauk City\, WI 53583
UID:e.1184.29278
SEQUENCE:3
DTSTAMP:20260421T004149Z
URL:http://members.saukprairie.com/events/details/ladies-night-at-mcfarlanes-29278
END:VEVENT

END:VCALENDAR
