BEGIN:VCALENDAR
VERSION:2.0
PRODID:-//ChamberMaster//Event Calendar 2.0//EN
METHOD:PUBLISH
X-PUBLISHED-TTL:P3D
REFRESH-INTERVAL:P3D
CALSCALE:GREGORIAN
BEGIN:VEVENT
DTSTART:20161006T230000Z
DTEND:20161007T020000Z
X-MICROSOFT-CDO-ALLDAYEVENT:FALSE
SUMMARY:Ladies Night of Inspiration
DESCRIPTION:Join us for a night of inspiration as we celebrate women and hear from two dynamic speakers.  This ticketed event will start with an eating fantasy made up of buffet stations scattered throughout the gallery and foyer\, each with a different specialty of food.  Mocktails will be available while guests network and enjoy the evening.  At 7:30\, guests will enter the theatre for talks on life offered first by Lea Culver\, Co-Founder of Culver Franchising System\, Inc.\, followed by Nancy Depcik\, Founder of Unshakable  Success.  Join us to discover the kind of success that no one can take away from you   no matter what challenges may come your way.  A special thank you to our presenting sponsor\, Unity Health Insurance\, for their commitment to women's health.  Tickets can be purchased online at www.saukprairie.com\, by phone 608.643.4168\, or in person at 109 Phillips Blvd.\, Sauk City.
X-ALT-DESC;FMTTYPE=text/html:<span style="color:#1F497D\;">Join us for a night of inspiration as we celebrate women and hear from two dynamic speakers.&nbsp\; This ticketed event will start with an eating fantasy made up of buffet stations scattered throughout the gallery and foyer\, each with a different specialty of food.&nbsp\; Mocktails will be available while guests network and enjoy the evening.&nbsp\; At 7:30\, guests will enter the theatre for talks on life offered first by Lea Culver\, Co-Founder of Culver Franchising System\, Inc.\, followed by Nancy Depcik\, Founder of Unshakable&nbsp\; Success.&nbsp\; Join us to discover the kind of success that no one can take away from you &ndash\; no matter what challenges may come your way.&nbsp\; A special thank you to our presenting sponsor\, Unity Health Insurance\, for their commitment to women&rsquo\;s health.&nbsp\; Tickets can be purchased online at <a href="http://www.saukprairie.com">www.saukprairie.com</a>\, by phone 608.643.4168\, or in person at 109 Phillips Blvd.\, Sauk City. &nbsp\;</span>
LOCATION:River Arts Center 105 9th Street\, Prairie du Sac\, WI 53578
UID:e.1184.8602
SEQUENCE:3
DTSTAMP:20260425T193059Z
URL:http://members.saukprairie.com/events/details/ladies-night-of-inspiration-10-06-2016-8602
END:VEVENT

END:VCALENDAR
