BEGIN:VCALENDAR
VERSION:2.0
PRODID:-//ChamberMaster//Event Calendar 2.0//EN
METHOD:PUBLISH
X-PUBLISHED-TTL:P3D
REFRESH-INTERVAL:P3D
CALSCALE:GREGORIAN
BEGIN:VEVENT
DTSTART:20181117T000000Z
DTEND:20181117T030000Z
X-MICROSOFT-CDO-ALLDAYEVENT:FALSE
SUMMARY:Ladies Night Out!!!
DESCRIPTION:Join us for a ladies night out! Come by for a glass of wine and an appetizer. Enjoy Pilates Demos\, and several vendors that we will have at the studio including Pampered Chef\, Rodan and Fields\, Ruby Ribbon Shape Wear\, and Paparazzi Jewelry. Maybe a palm reader???? Right next door you will find Elite Hair and Wax\, and they are ready to help you with all of your holiday needs. See you there!
X-ALT-DESC;FMTTYPE=text/html:<span style="color: rgb(29\, 33\, 41)\; font-family: Helvetica\, Arial\, sans-serif\; font-size: 14px\;">Join us for a ladies night out! Come by for a glass of wine and an appetizer. Enjoy Pilates Demos\, and several vendors that we will have at the studio including Pampered Chef\, Rodan and Fields\, Ruby Ribbon Shape Wear\, and Paparazzi Jewelry. Maybe a palm reader???? Right next door you will find Elite Hair and Wax\, and they are ready to help you with all of your holiday needs. See you there!</span>
LOCATION:The Body Shop of Sauk Prairie 940 Water Street\, Sauk City
UID:e.1184.21448
SEQUENCE:3
DTSTAMP:20260424T021817Z
URL:http://members.saukprairie.com/events/details/ladies-night-out-21448
END:VEVENT

END:VCALENDAR
