BEGIN:VCALENDAR
VERSION:2.0
PRODID:-//ChamberMaster//Event Calendar 2.0//EN
METHOD:PUBLISH
X-PUBLISHED-TTL:P3D
REFRESH-INTERVAL:P3D
CALSCALE:GREGORIAN
BEGIN:VEVENT
DTSTART;VALUE=DATE:20220722
DTEND;VALUE=DATE:20220724
TRANSP:TRANSPARENT
X-MICROSOFT-CDO-ALLDAYEVENT:TRUE
SUMMARY:Ladies on the Loose
DESCRIPTION:Experience the beautiful Sauk Prairie area by shopping at local businesses on July 22 and 23. Businesses will have specials and you can register to be included in the drawing. Like us so you get updates.\n\nEach business has individual hours\, check link below for more details.\n\nOn the day(s) of the event\, each participating business will have a passport available for you to use to be included in the drawing. You must go to each business and have your passport punched/stamped then deposit your completed passport at one of the participating businesses. Drawing winners will be announced the week of July 25th. Only one drawing item per person.\n\nThanks to the following businesses for co-hosting this event with St. Vincent de Paul:\n\n3 Generations\n\nCameo Antique Mall\n\nChi Health Herbs & Natural Wellness\n\nCountry Sass Gifts\n\nIt Could Be Yours\n\nLocal Beauty & Goods\n\nReTwist-T\n\nStemmed by Grace\n\nUnfolded Clothing & Home\n\nWillow & Ivy Boutique\n\nTo get more information on business hours\, specials and drawing items:\n\nhttp://www.stvdpsaukprairie.com/ladies-on-the-loose\n\n*Participating businesses are not responsible for loss or damage.
X-ALT-DESC;FMTTYPE=text/html:<div class="kvgmc6g5 cxmmr5t8 oygrvhab hcukyx3x c1et5uql" style="overflow-wrap: break-word\; margin: 0px\; font-family: &quot\;Segoe UI Historic&quot\;\, &quot\;Segoe UI&quot\;\, Helvetica\, Arial\, sans-serif\; color: rgb(5\, 5\, 5)\; font-size: 15px\;">Experience the beautiful Sauk Prairie area by shopping at local businesses on July 22 and 23. Businesses will have specials and you can register to be included in the drawing. Like us so you get updates.</div>\n\n<div class="cxmmr5t8 oygrvhab hcukyx3x c1et5uql o9v6fnle" style="overflow-wrap: break-word\; margin: 0.5em 0px 0px\; font-family: &quot\;Segoe UI Historic&quot\;\, &quot\;Segoe UI&quot\;\, Helvetica\, Arial\, sans-serif\; color: rgb(5\, 5\, 5)\; font-size: 15px\;">Each business has individual hours\, check link below for more details.</div>\n\n<div class="cxmmr5t8 oygrvhab hcukyx3x c1et5uql o9v6fnle" style="overflow-wrap: break-word\; margin: 0.5em 0px 0px\; font-family: &quot\;Segoe UI Historic&quot\;\, &quot\;Segoe UI&quot\;\, Helvetica\, Arial\, sans-serif\; color: rgb(5\, 5\, 5)\; font-size: 15px\;">On the day(s) of the event\, each participating business will have a passport available for you to use to be included in the drawing. You must go to each business and have your passport punched/stamped then deposit your completed passport at one of the participating businesses. Drawing winners will be announced the week of July 25th. Only one drawing item per person.</div>\n\n<div class="cxmmr5t8 oygrvhab hcukyx3x c1et5uql o9v6fnle" style="overflow-wrap: break-word\; margin: 0.5em 0px 0px\; font-family: &quot\;Segoe UI Historic&quot\;\, &quot\;Segoe UI&quot\;\, Helvetica\, Arial\, sans-serif\; color: rgb(5\, 5\, 5)\; font-size: 15px\;">Thanks to the following businesses for co-hosting this event with St. Vincent de Paul:</div>\n\n<div class="cxmmr5t8 oygrvhab hcukyx3x c1et5uql o9v6fnle" style="overflow-wrap: break-word\; margin: 0.5em 0px 0px\; font-family: &quot\;Segoe UI Historic&quot\;\, &quot\;Segoe UI&quot\;\, Helvetica\, Arial\, sans-serif\; color: rgb(5\, 5\, 5)\; font-size: 15px\;">3 Generations<br />\nCameo Antique Mall<br />\nChi Health Herbs &amp\; Natural Wellness<br />\nCountry Sass Gifts<br />\nIt Could Be Yours<br />\nLocal Beauty &amp\; Goods<br />\nReTwist-T<br />\nStemmed by Grace<br />\nUnfolded Clothing &amp\; Home<br />\nWillow &amp\; Ivy Boutique</div>\n\n<div class="cxmmr5t8 oygrvhab hcukyx3x c1et5uql o9v6fnle" style="overflow-wrap: break-word\; margin: 0.5em 0px 0px\; font-family: &quot\;Segoe UI Historic&quot\;\, &quot\;Segoe UI&quot\;\, Helvetica\, Arial\, sans-serif\; color: rgb(5\, 5\, 5)\; font-size: 15px\;">To get more information on business hours\, specials and drawing items:</div>\n\n<div class="cxmmr5t8 oygrvhab hcukyx3x c1et5uql o9v6fnle" style="overflow-wrap: break-word\; margin: 0.5em 0px 0px\; font-family: &quot\;Segoe UI Historic&quot\;\, &quot\;Segoe UI&quot\;\, Helvetica\, Arial\, sans-serif\; color: rgb(5\, 5\, 5)\; font-size: 15px\;"><a href="http://www.stvdpsaukprairie.com/ladies-on-the-loose">http://www.stvdpsaukprairie.com/ladies-on-the-loose</a></div>\n\n<div class="cxmmr5t8 oygrvhab hcukyx3x c1et5uql o9v6fnle" style="overflow-wrap: break-word\; margin: 0.5em 0px 0px\; font-family: &quot\;Segoe UI Historic&quot\;\, &quot\;Segoe UI&quot\;\, Helvetica\, Arial\, sans-serif\; color: rgb(5\, 5\, 5)\; font-size: 15px\;">*Participating businesses are not responsible for loss or damage.</div>\n
LOCATION:Sauk Prairie
UID:e.1184.28176
SEQUENCE:3
DTSTAMP:20260421T103755Z
URL:http://members.saukprairie.com/events/details/ladies-on-the-loose-28176
END:VEVENT

END:VCALENDAR
