BEGIN:VCALENDAR
VERSION:2.0
PRODID:-//ChamberMaster//Event Calendar 2.0//EN
METHOD:PUBLISH
X-PUBLISHED-TTL:P3D
REFRESH-INTERVAL:P3D
CALSCALE:GREGORIAN
BEGIN:VEVENT
DTSTART:20210213T123000Z
DTEND:20210213T223000Z
X-MICROSOFT-CDO-ALLDAYEVENT:FALSE
SUMMARY:Lake Wisconsin Alliance 7th Annual Ice Fishing Tournament
DESCRIPTION:Lake Wisconsin Alliance 7th Annual Ice Fishing Tournament!\n\n	Pre-registration is accepted and encouraged. If pre-registered\, check-in in the morning at Lucky's is not required.\n	Day-of Registration available at Lucky's 6:30-7am\n	Must be registered by 7am day of tournament\n	3:30pm Fish Measuring - Lower Bar Music Venue Area of Lucky's Bar.\n	\n		 Please note: The rules have changed compared to previous years\n	\n	\n	3:30-4:30pm - Winner Announcements and Raffle Prize Drawings\n\nPickup event info/Register at Lucky's\n\n\n\nClick here for the full description and rules
X-ALT-DESC;FMTTYPE=text/html:<span style="color: rgb(29\, 33\, 41)\; font-family: Helvetica\, Arial\, sans-serif\; font-size: 14px\; white-space: pre-wrap\;">Lake Wisconsin Alliance 7th Annual Ice Fishing Tournament!</span>\n<ul>\n	<li><span style="color: rgb(29\, 33\, 41)\; font-family: Helvetica\, Arial\, sans-serif\; font-size: 14px\; white-space: pre-wrap\;">Pre-registration is accepted and encouraged. If pre-registered\, check-in in the morning at Lucky&#39\;s is not required.</span></li>\n	<li><span style="color: rgb(29\, 33\, 41)\; font-family: Helvetica\, Arial\, sans-serif\; font-size: 14px\; white-space: pre-wrap\;">Day-of Registration available at Lucky&#39\;s 6:30-7am</span></li>\n	<li><span style="color: rgb(29\, 33\, 41)\; font-family: Helvetica\, Arial\, sans-serif\; font-size: 14px\; white-space: pre-wrap\;">Must be registered by 7am day of tournament</span></li>\n	<li><span style="color: rgb(29\, 33\, 41)\; font-family: Helvetica\, Arial\, sans-serif\; font-size: 14px\; white-space: pre-wrap\;">3:30pm Fish Measuring - Lower Bar Music Venue Area of Lucky&#39\;s Bar.</span>\n	<ul>\n		<li><span style="color: rgb(29\, 33\, 41)\; font-family: Helvetica\, Arial\, sans-serif\; font-size: 14px\; white-space: pre-wrap\;">&#8203\;Please note: The rules have changed compared to previous years</span></li>\n	</ul>\n	</li>\n	<li><span style="color: rgb(29\, 33\, 41)\; font-family: Helvetica\, Arial\, sans-serif\; font-size: 14px\; white-space: pre-wrap\;">3:30-4:30pm - Winner Announcements and Raffle Prize Drawings</span></li>\n</ul>\n<span style="color: rgb(29\, 33\, 41)\; font-family: Helvetica\, Arial\, sans-serif\; font-size: 14px\; white-space: pre-wrap\;">Pickup event info/Register at Lucky&#39\;s</span><br style="color: rgb(29\, 33\, 41)\; font-family: Helvetica\, Arial\, sans-serif\; font-size: 14px\; white-space: pre-wrap\;" />\n<br />\n<strong><a href="https://chambermaster.blob.core.windows.net/userfiles/UserFiles/chambers/1184/File/20210113140120.pdf">Click here for the full description and rules</a></strong>
LOCATION:Lake Wisconsin
UID:e.1184.26418
SEQUENCE:3
DTSTAMP:20260422T091232Z
URL:http://members.saukprairie.com/events/details/lake-wisconsin-alliance-7th-annual-ice-fishing-tournament-26418
END:VEVENT

END:VCALENDAR
