BEGIN:VCALENDAR
VERSION:2.0
PRODID:-//ChamberMaster//Event Calendar 2.0//EN
METHOD:PUBLISH
X-PUBLISHED-TTL:P3D
REFRESH-INTERVAL:P3D
CALSCALE:GREGORIAN
BEGIN:VEVENT
DTSTART:20220212T123000Z
DTEND:20220213T010000Z
X-MICROSOFT-CDO-ALLDAYEVENT:FALSE
SUMMARY:Lake Wisconsin Alliance 8th Annual Ice Fishing Tournament
DESCRIPTION:Lucky's on The Lake and Lake Wisconsin Alliance 8th Annual Ice Fishing Tournament will be on Saturday February 12th from 6:30Am   3:30PM.  Attached are details\, rules\, prizes\, and an application.  There will also be a raffle with lots of great prizes at Lucky's afterwards.  Click on this attachement for all of the details.   \n\n	2022 Ice Fishing Tournament Packet\n\n \n\n\n	Pre-registration is accepted and encouraged. If pre-registered\, check-in in the morning at Lucky's is not required.\n	Day-of Registration available at Lucky's 6:30-7am\n	Must be registered by 7am day of tournament\n	4:00pm Fish Measuring - Parking Lot of Lucky's Bar\n	\n		 Please note: The rules have changed compared to previous years\n	\n	\n	4:00-7:00pm - Winner Announcements and Raffle Prize Drawings and Meat Raffle\n\nPickup event info/Register at Lucky's
X-ALT-DESC;FMTTYPE=text/html:<span style="color: rgb(119\, 119\, 119)\; font-family: &quot\;Open Sans&quot\;\, sans-serif\; font-size: 16px\;">Lucky&rsquo\;s on The Lake and Lake Wisconsin Alliance 8th Annual Ice Fishing Tournament will be on Saturday February 12th from 6:30Am &ndash\; 3:30PM.&nbsp\; Attached are details\, rules\, prizes\, and an application.&nbsp\; There will also be a raffle with lots of great prizes at Lucky&rsquo\;s afterwards.&nbsp\; Click on this attachement for all of the details.&nbsp\; &nbsp\;</span>\n<ul>\n	<li><a href="https://lakewisconsinalliance.org/wp-content/uploads/2021/12/2022-Ice-Fishing-Tournament-Packet-3.pdf" style="box-sizing: border-box\; background-image: initial\; background-position: initial\; background-size: initial\; background-repeat: initial\; background-attachment: initial\; background-origin: initial\; background-clip: initial\; color: rgb(66\, 139\, 202)\; text-decoration-line: none\; font-family: &quot\;Open Sans&quot\;\, sans-serif\; font-size: 16px\;">2022 Ice Fishing Tournament Packet</a></li>\n</ul>\n&nbsp\;\n\n<ul>\n	<li><span style="color: rgb(29\, 33\, 41)\; font-family: Helvetica\, Arial\, sans-serif\; font-size: 14px\; white-space: pre-wrap\;">Pre-registration is accepted and encouraged. If pre-registered\, check-in in the morning at Lucky&#39\;s is not required.</span></li>\n	<li><span style="color: rgb(29\, 33\, 41)\; font-family: Helvetica\, Arial\, sans-serif\; font-size: 14px\; white-space: pre-wrap\;">Day-of Registration available at Lucky&#39\;s 6:30-7am</span></li>\n	<li><span style="color: rgb(29\, 33\, 41)\; font-family: Helvetica\, Arial\, sans-serif\; font-size: 14px\; white-space: pre-wrap\;">Must be registered by 7am day of tournament</span></li>\n	<li><span style="color: rgb(29\, 33\, 41)\; font-family: Helvetica\, Arial\, sans-serif\; font-size: 14px\; white-space: pre-wrap\;">4:00pm Fish Measuring - Parking Lot of Lucky&#39\;s Bar</span>\n	<ul>\n		<li><span style="color: rgb(29\, 33\, 41)\; font-family: Helvetica\, Arial\, sans-serif\; font-size: 14px\; white-space: pre-wrap\;">&#8203\;Please note: The rules have changed compared to previous years</span></li>\n	</ul>\n	</li>\n	<li><span style="color: rgb(29\, 33\, 41)\; font-family: Helvetica\, Arial\, sans-serif\; font-size: 14px\; white-space: pre-wrap\;">4:00-7:00pm - Winner Announcements and Raffle Prize Drawings and Meat Raffle</span></li>\n</ul>\n<span style="color: rgb(29\, 33\, 41)\; font-family: Helvetica\, Arial\, sans-serif\; font-size: 14px\; white-space: pre-wrap\;">Pickup event info/Register at Lucky&#39\;s</span>
LOCATION:Lake Wisconsin
UID:e.1184.27134
SEQUENCE:3
DTSTAMP:20260421T161423Z
URL:http://members.saukprairie.com/events/details/lake-wisconsin-alliance-8th-annual-ice-fishing-tournament-27134
END:VEVENT

END:VCALENDAR
