BEGIN:VCALENDAR
VERSION:2.0
PRODID:-//ChamberMaster//Event Calendar 2.0//EN
METHOD:PUBLISH
X-PUBLISHED-TTL:P3D
REFRESH-INTERVAL:P3D
CALSCALE:GREGORIAN
BEGIN:VEVENT
DTSTART:20180408T000000Z
DTEND:20180408T020000Z
X-MICROSOFT-CDO-ALLDAYEVENT:FALSE
SUMMARY:Larry Gatlin
DESCRIPTION:Larry Gatlin\n\nat the River Arts Center (105-9th Street\, Prairie du Sac\, WI)\n\nSaturday\, April 7th\, 2018 7pm\n\n$35/adults  $15/students\n\nAn intimate acoustic evening with a country legend! Larry Gatlin shares the music and stories from four decades as a solo artist and with The Gatlin Brothers. Larry Gatlin has scored 33 Top 40 hits including: "Broken Lady"\, "All The Gold In California"\, "Houston (Means I'm One Day Closer to You)"\, "She Used to Be Somebody's Baby"\, and "Talkin' to the Moon".
X-ALT-DESC;FMTTYPE=text/html:<p><strong><u>Larry Gatlin</u></strong></p>\n\n<p>at the River Arts Center (105-9th Street\, Prairie du Sac\, WI)</p>\n\n<p>Saturday\, April 7th\, 2018 7pm</p>\n\n<p>$35/adults &nbsp\;$15/students</p>\n\n<p>An intimate acoustic evening with a country legend! Larry Gatlin shares the music and stories from four decades as a solo artist and with The Gatlin Brothers. Larry Gatlin has scored 33 Top 40 hits including: &ldquo\;Broken Lady&rdquo\;\, &ldquo\;All The Gold In California&rdquo\;\, &ldquo\;Houston (Means I&rsquo\;m One Day Closer to You)&rdquo\;\, &ldquo\;She Used to Be Somebody&rsquo\;s Baby&rdquo\;\, and &ldquo\;Talkin&rsquo\; to the Moon&rdquo\;.</p>\n
LOCATION:River Arts Center (105-9th Street\, Prairie du Sac\, WI)
UID:e.1184.11860
SEQUENCE:3
DTSTAMP:20260424T131320Z
URL:http://members.saukprairie.com/events/details/larry-gatlin-11860
END:VEVENT

END:VCALENDAR
