BEGIN:VCALENDAR
VERSION:2.0
PRODID:-//ChamberMaster//Event Calendar 2.0//EN
METHOD:PUBLISH
X-PUBLISHED-TTL:P3D
REFRESH-INTERVAL:P3D
CALSCALE:GREGORIAN
BEGIN:VEVENT
DTSTART;VALUE=DATE:20220910
DTEND;VALUE=DATE:20220911
TRANSP:TRANSPARENT
X-MICROSOFT-CDO-ALLDAYEVENT:TRUE
SUMMARY:Leah's Ladies Bean Bag Tournament
DESCRIPTION:We are excited to host the 14th annual Leah's Ladies Bean Bag Tournament that will raise money to support Multiple Sclerosis.\n\n\n\n12pm - Food\, raffles\, and silent auction\n\n1pm - Tournament starts\n\n\n\nTournament Details:\n\n	$40 per person\n	Bring your own beverages (including alcohol and beer)\n	Bring lawn chairs\n	Each team will play a minimum of two games\n	Must be at least 18 to play\n	Prizes awarded to 1st-4th place finishers\n	Friendly games to raise money for MS\n\nRegister online at: www.leahsladies.com by September 8th. Free T-shirt if you register by August 19th!\n\n\n\nVolunteers needed! Email leahsladiesms@gmail.com
X-ALT-DESC;FMTTYPE=text/html:We are excited to host the 14th annual Leah&#39\;s Ladies Bean Bag Tournament that will raise money to support Multiple Sclerosis.<br />\n<br />\n12pm - Food\, raffles\, and silent auction<br />\n1pm - Tournament starts<br />\n<br />\nTournament Details:\n<ul>\n	<li>$40 per person</li>\n	<li>Bring your own beverages (including alcohol and beer)</li>\n	<li>Bring lawn chairs</li>\n	<li>Each team will play a minimum of two games</li>\n	<li>Must be at least 18 to play</li>\n	<li>Prizes awarded to 1st-4th place finishers</li>\n	<li>Friendly games to raise money for MS</li>\n</ul>\nRegister online at: www.leahsladies.com by September 8th. Free T-shirt if you register by August 19th!<br />\n<br />\nVolunteers needed! Email leahsladiesms@gmail.com
LOCATION:The Vines - W13002 Schoepp Rd\, Sauk City
UID:e.1184.28166
SEQUENCE:3
DTSTAMP:20260421T061848Z
URL:http://members.saukprairie.com/events/details/leah-s-ladies-bean-bag-tournament-28166
END:VEVENT

END:VCALENDAR
