BEGIN:VCALENDAR
VERSION:2.0
PRODID:-//ChamberMaster//Event Calendar 2.0//EN
METHOD:PUBLISH
X-PUBLISHED-TTL:P3D
REFRESH-INTERVAL:P3D
CALSCALE:GREGORIAN
BEGIN:VEVENT
DTSTART:20230516T230000Z
DTEND:20230517T010000Z
X-MICROSOFT-CDO-ALLDAYEVENT:FALSE
SUMMARY:Learn how to ID birds by ear!
DESCRIPTION:Sauk Prairie River P.A.L. will be hosting Learn how to ID birds by ear!\n\n\n\nTuesday May 16 from 6-8 pm at the Sauk City Library's Community Room.\n\n \n\nYou will learn how to identify birds using their calls.  Bring your mobile device\, we'll be sharing/recommending an app that will assist you. \n\n \n\nScott Weber will be the presenter\, who has been "always" birding by ear.\n\n \n\nSaturday following the talk\, we will host a bird "listening" event at Sauk City Riverfront Park between 6am and10am. Bring your chair with you\, binoculars if you like\, your own water bottle. Rain or shine\, we will only cancel if we can't safely use our mobile devices OR severe weather conditions (please stop asking for snow!).
X-ALT-DESC;FMTTYPE=text/html:Sauk Prairie River P.A.L. will be hosting <strong>Learn how to ID birds by ear!</strong><br />\n<br />\nTuesday May 16 from 6-8 pm at the Sauk City Library&#39\;s&nbsp\;Community Room.<br />\n&nbsp\;<br />\nYou will learn how to identify birds using their calls.&nbsp\; Bring your mobile device\, we&#39\;ll be sharing/recommending an app that will assist you.&nbsp\;<br />\n&nbsp\;<br />\nScott Weber will be the presenter\, who has been &quot\;always&quot\; birding by ear.<br />\n&nbsp\;<br />\nSaturday following the talk\, we will host a bird &quot\;listening&quot\; event at Sauk City Riverfront Park between 6am and10am. Bring your chair with you\, binoculars if you like\, your own water bottle. Rain or&nbsp\;shine\, we will only cancel if we can&#39\;t safely use our mobile devices OR severe weather conditions (please stop asking for snow!).
LOCATION:George Culver Community Library 615 Phillips Blvd. Sauk City\, WI 53583
UID:e.1184.30763
SEQUENCE:3
DTSTAMP:20260420T131749Z
URL:http://members.saukprairie.com/events/details/learn-how-to-id-birds-by-ear-30763
END:VEVENT

END:VCALENDAR
