BEGIN:VCALENDAR
VERSION:2.0
PRODID:-//ChamberMaster//Event Calendar 2.0//EN
METHOD:PUBLISH
X-PUBLISHED-TTL:P3D
REFRESH-INTERVAL:P3D
CALSCALE:GREGORIAN
BEGIN:VEVENT
DTSTART:20240928T150000Z
DTEND:20240928T160000Z
X-MICROSOFT-CDO-ALLDAYEVENT:FALSE
SUMMARY:LEGO® at the Library
DESCRIPTION:Calling all builders\, dreamers\, and LEGO  lovers! Build cool creations with the library's collection of LEGO s! You can leave your own at home! For Ages 8 and under. No registration required.
X-ALT-DESC;FMTTYPE=text/html:Calling all builders\, dreamers\, and LEGO&reg\; lovers! Build cool creations with the library&#39\;s collection of LEGO&reg\;s! You can leave your own at home! For Ages 8 and under. No registration required.
LOCATION:George Culver Community Library - Sauk City
UID:e.1184.33059
SEQUENCE:3
DTSTAMP:20260419T150001Z
URL:http://members.saukprairie.com/events/details/lego-at-the-library-33059
END:VEVENT

END:VCALENDAR
