BEGIN:VCALENDAR
VERSION:2.0
PRODID:-//ChamberMaster//Event Calendar 2.0//EN
METHOD:PUBLISH
X-PUBLISHED-TTL:P3D
REFRESH-INTERVAL:P3D
CALSCALE:GREGORIAN
BEGIN:VEVENT
DTSTART:20190408T203000Z
DTEND:20190408T220000Z
X-MICROSOFT-CDO-ALLDAYEVENT:FALSE
SUMMARY:Lego Building Club
DESCRIPTION:Don't miss the Ruth Culver Community Library's Lego Building Club! Stay the whole time or for as long as you need to build whatever you want\, name it\, take a picture and display it for others to see! Duplos are available for younger children. Contact Beth at 643-8318 with questions.
X-ALT-DESC;FMTTYPE=text/html:<span style="background-color:transparent\; color:rgb(68\, 68\, 68)\; font-family:arial\,helvetica\,sans-serif\; font-size:14px">Don&#39\;t miss the Ruth Culver Community Library&#39\;s Lego Building Club! Stay the whole time or for as long as you need to build whatever you want\, name it\, take a picture and display it for others to see! Duplos are available for younger children. Contact Beth at 643-8318 with questions.</span>
LOCATION:Ruth Culver Community Library 540 Water Street\, Prairie du Sac
UID:e.1184.21622
SEQUENCE:3
DTSTAMP:20260423T185809Z
URL:http://members.saukprairie.com/events/details/lego-building-club-04-08-2019-21622
END:VEVENT

END:VCALENDAR
