BEGIN:VCALENDAR
VERSION:2.0
PRODID:-//ChamberMaster//Event Calendar 2.0//EN
METHOD:PUBLISH
X-PUBLISHED-TTL:P3D
REFRESH-INTERVAL:P3D
CALSCALE:GREGORIAN
BEGIN:VEVENT
DTSTART:20190506T203000Z
DTEND:20190506T220000Z
X-MICROSOFT-CDO-ALLDAYEVENT:FALSE
SUMMARY:Lego Building Club
DESCRIPTION:The Ruth Culver Community Library's Lego Building Club will be held Monday\, May 6 from 3:30 p.m. to 5:00 p.m. Stay the whole time or for as long as you need to build whatever you want\, name it\, take a picture and display it for others to see! Duplos are available for younger children. Contact Beth at 643-8318 with questions.
X-ALT-DESC;FMTTYPE=text/html:<span style="background-color:transparent\; color:rgb(68\, 68\, 68)\; font-family:arial\,helvetica\,sans-serif\; font-size:14px">The Ruth Culver Community Library&#39\;s Lego Building Club will be held Monday\, May 6 from 3:30 p.m. to 5:00 p.m. Stay the whole time or for as long as you need to build whatever you want\, name it\, take a picture and display it for others to see! Duplos are available for younger children. Contact Beth at 643-8318 with questions.</span>
LOCATION:Ruth Culver Community Library 540 Water Street\, Prairie du Sac
UID:e.1184.21623
SEQUENCE:3
DTSTAMP:20260423T171814Z
URL:http://members.saukprairie.com/events/details/lego-building-club-05-06-2019-21623
END:VEVENT

END:VCALENDAR
