BEGIN:VCALENDAR
VERSION:2.0
PRODID:-//ChamberMaster//Event Calendar 2.0//EN
METHOD:PUBLISH
X-PUBLISHED-TTL:P3D
REFRESH-INTERVAL:P3D
CALSCALE:GREGORIAN
BEGIN:VEVENT
DTSTART:20190919T203000Z
DTEND:20190919T220000Z
X-MICROSOFT-CDO-ALLDAYEVENT:FALSE
SUMMARY:Lego Building Club
DESCRIPTION:The Ruth Culver Community Library's Lego Club is held once a month from 3:30 p.m. to 5:00 p.m. Stay the whole time or for as long as you need to build whatever you want\, name it\, take a picture and display it for others to see! Duplos are available for younger children. Contact Beth at 643-8318 with questions.\n\nFall 2019 Dates:\n\nThursday\, September 19\n\nThursday\, October 17\n\nThursday\, November 21\n\nThursday\, December 19
X-ALT-DESC;FMTTYPE=text/html:<div>\n<div>\n<div>\n<div>\n<div>\n<div>\n<p>The Ruth Culver Community Library&#39\;s Lego Club is held once a month from 3:30 p.m. to 5:00 p.m. Stay the whole time or for as long as you need to build whatever you want\, name it\, take a picture and display it for others to see! Duplos are available for younger children. Contact Beth at 643-8318 with questions.</p>\n\n<p>Fall 2019 Dates:</p>\n\n<p>Thursday\, September 19</p>\n\n<p>Thursday\, October 17</p>\n\n<p>Thursday\, November 21</p>\n\n<p>Thursday\, December 19</p>\n</div>\n</div>\n</div>\n</div>\n</div>\n</div>\n
LOCATION:Ruth Culver Community Library 540 Water Street\, Prairie du Sac
UID:e.1184.23140
SEQUENCE:3
DTSTAMP:20260423T113757Z
URL:http://members.saukprairie.com/events/details/lego-building-club-09-19-2019-23140
END:VEVENT

END:VCALENDAR
